BEGIN:VCALENDAR
VERSION:2.0
PRODID:https://www.kufer.de/kuferweb / DE
METHOD:PUBLISH
CALSCALE:GREGORIAN
X-WR-TIMEZONE:Europe/Berlin
BEGIN:VTIMEZONE
TZID:Europe/Berlin
X-LIC-LOCATION:Europe/Berlin
BEGIN:DAYLIGHT
TZOFFSETFROM:+0100
TZOFFSETTO:+0200
TZNAME:CEST
DTSTART:19700329T020000
RRULE:FREQ=YEARLY;INTERVAL=1;BYDAY=-1SU;BYMONTH=3
END:DAYLIGHT
BEGIN:STANDARD
TZOFFSETFROM:+0200
TZOFFSETTO:+0100
TZNAME:CET
DTSTART:19701025T030000
RRULE:FREQ=YEARLY;INTERVAL=1;BYDAY=-1SU;BYMONTH=10
END:STANDARD
END:VTIMEZONE
BEGIN:VEVENT
DTSTAMP:20260419T170408
DTSTART;TZID=Europe/Berlin:20260401T174500
DTEND;TZID=Europe/Berlin:20260401T183000
UID:P23111-20260401T174500@GHZDÜREN
SUMMARY:Rückenschule und Wirbelsäulengymnastik (P23111) 
LOCATION:St. Marien-Hospital; Gymnastikraum 1, , 
END:VEVENT
BEGIN:VEVENT
DTSTAMP:20260419T170408
DTSTART;TZID=Europe/Berlin:20260408T174500
DTEND;TZID=Europe/Berlin:20260408T183000
UID:P23111-20260408T174500@GHZDÜREN
SUMMARY:Rückenschule und Wirbelsäulengymnastik (P23111) 
LOCATION:St. Marien-Hospital; Gymnastikraum 1, , 
END:VEVENT
BEGIN:VEVENT
DTSTAMP:20260419T170408
DTSTART;TZID=Europe/Berlin:20260415T174500
DTEND;TZID=Europe/Berlin:20260415T183000
UID:P23111-20260415T174500@GHZDÜREN
SUMMARY:Rückenschule und Wirbelsäulengymnastik (P23111) 
LOCATION:St. Marien-Hospital; Gymnastikraum 1, , 
END:VEVENT
BEGIN:VEVENT
DTSTAMP:20260419T170408
DTSTART;TZID=Europe/Berlin:20260422T174500
DTEND;TZID=Europe/Berlin:20260422T183000
UID:P23111-20260422T174500@GHZDÜREN
SUMMARY:Rückenschule und Wirbelsäulengymnastik (P23111) 
LOCATION:St. Marien-Hospital; Gymnastikraum 1, , 
END:VEVENT
BEGIN:VEVENT
DTSTAMP:20260419T170408
DTSTART;TZID=Europe/Berlin:20260429T174500
DTEND;TZID=Europe/Berlin:20260429T183000
UID:P23111-20260429T174500@GHZDÜREN
SUMMARY:Rückenschule und Wirbelsäulengymnastik (P23111) 
LOCATION:St. Marien-Hospital; Gymnastikraum 1, , 
END:VEVENT
BEGIN:VEVENT
DTSTAMP:20260419T170408
DTSTART;TZID=Europe/Berlin:20260506T174500
DTEND;TZID=Europe/Berlin:20260506T183000
UID:P23111-20260506T174500@GHZDÜREN
SUMMARY:Rückenschule und Wirbelsäulengymnastik (P23111) 
LOCATION:St. Marien-Hospital; Gymnastikraum 1, , 
END:VEVENT
BEGIN:VEVENT
DTSTAMP:20260419T170408
DTSTART;TZID=Europe/Berlin:20260513T174500
DTEND;TZID=Europe/Berlin:20260513T183000
UID:P23111-20260513T174500@GHZDÜREN
SUMMARY:Rückenschule und Wirbelsäulengymnastik (P23111) 
LOCATION:St. Marien-Hospital; Gymnastikraum 1, , 
END:VEVENT
BEGIN:VEVENT
DTSTAMP:20260419T170408
DTSTART;TZID=Europe/Berlin:20260520T174500
DTEND;TZID=Europe/Berlin:20260520T183000
UID:P23111-20260520T174500@GHZDÜREN
SUMMARY:Rückenschule und Wirbelsäulengymnastik (P23111) 
LOCATION:St. Marien-Hospital; Gymnastikraum 1, , 
END:VEVENT
BEGIN:VEVENT
DTSTAMP:20260419T170408
DTSTART;TZID=Europe/Berlin:20260527T174500
DTEND;TZID=Europe/Berlin:20260527T183000
UID:P23111-20260527T174500@GHZDÜREN
SUMMARY:Rückenschule und Wirbelsäulengymnastik (P23111) 
LOCATION:St. Marien-Hospital; Gymnastikraum 1, , 
END:VEVENT
BEGIN:VEVENT
DTSTAMP:20260419T170408
DTSTART;TZID=Europe/Berlin:20260603T174500
DTEND;TZID=Europe/Berlin:20260603T183000
UID:P23111-20260603T174500@GHZDÜREN
SUMMARY:Rückenschule und Wirbelsäulengymnastik (P23111) 
LOCATION:St. Marien-Hospital; Gymnastikraum 1, , 
END:VEVENT
BEGIN:VEVENT
DTSTAMP:20260419T170408
DTSTART;TZID=Europe/Berlin:20260610T174500
DTEND;TZID=Europe/Berlin:20260610T183000
UID:P23111-20260610T174500@GHZDÜREN
SUMMARY:Rückenschule und Wirbelsäulengymnastik (P23111) 
LOCATION:St. Marien-Hospital; Gymnastikraum 1, , 
END:VEVENT
BEGIN:VEVENT
DTSTAMP:20260419T170408
DTSTART;TZID=Europe/Berlin:20260617T174500
DTEND;TZID=Europe/Berlin:20260617T183000
UID:P23111-20260617T174500@GHZDÜREN
SUMMARY:Rückenschule und Wirbelsäulengymnastik (P23111) 
LOCATION:St. Marien-Hospital; Gymnastikraum 1, , 
END:VEVENT
BEGIN:VEVENT
DTSTAMP:20260419T170408
DTSTART;TZID=Europe/Berlin:20260624T174500
DTEND;TZID=Europe/Berlin:20260624T183000
UID:P23111-20260624T174500@GHZDÜREN
SUMMARY:Rückenschule und Wirbelsäulengymnastik (P23111) 
LOCATION:St. Marien-Hospital; Gymnastikraum 1, , 
END:VEVENT
END:VCALENDAR