BEGIN:VCALENDAR
VERSION:2.0
PRODID:https://www.kufer.de/kuferweb / DE
METHOD:PUBLISH
CALSCALE:GREGORIAN
X-WR-TIMEZONE:Europe/Berlin
BEGIN:VTIMEZONE
TZID:Europe/Berlin
X-LIC-LOCATION:Europe/Berlin
BEGIN:DAYLIGHT
TZOFFSETFROM:+0100
TZOFFSETTO:+0200
TZNAME:CEST
DTSTART:19700329T020000
RRULE:FREQ=YEARLY;INTERVAL=1;BYDAY=-1SU;BYMONTH=3
END:DAYLIGHT
BEGIN:STANDARD
TZOFFSETFROM:+0200
TZOFFSETTO:+0100
TZNAME:CET
DTSTART:19701025T030000
RRULE:FREQ=YEARLY;INTERVAL=1;BYDAY=-1SU;BYMONTH=10
END:STANDARD
END:VTIMEZONE
BEGIN:VEVENT
DTSTAMP:20260419T183640
DTSTART;TZID=Europe/Berlin:20260402T103000
DTEND;TZID=Europe/Berlin:20260402T111500
UID:P23113-20260402T103000@GHZDÜREN
SUMMARY:Rückenschule und Wirbelsäulengymnastik (P23113) 
LOCATION:St. Marien-Hospital; Gymnastikraum 1, , 
END:VEVENT
BEGIN:VEVENT
DTSTAMP:20260419T183640
DTSTART;TZID=Europe/Berlin:20260409T103000
DTEND;TZID=Europe/Berlin:20260409T111500
UID:P23113-20260409T103000@GHZDÜREN
SUMMARY:Rückenschule und Wirbelsäulengymnastik (P23113) 
LOCATION:St. Marien-Hospital; Gymnastikraum 1, , 
END:VEVENT
BEGIN:VEVENT
DTSTAMP:20260419T183640
DTSTART;TZID=Europe/Berlin:20260416T103000
DTEND;TZID=Europe/Berlin:20260416T111500
UID:P23113-20260416T103000@GHZDÜREN
SUMMARY:Rückenschule und Wirbelsäulengymnastik (P23113) 
LOCATION:St. Marien-Hospital; Gymnastikraum 1, , 
END:VEVENT
BEGIN:VEVENT
DTSTAMP:20260419T183640
DTSTART;TZID=Europe/Berlin:20260423T103000
DTEND;TZID=Europe/Berlin:20260423T111500
UID:P23113-20260423T103000@GHZDÜREN
SUMMARY:Rückenschule und Wirbelsäulengymnastik (P23113) 
LOCATION:St. Marien-Hospital; Gymnastikraum 1, , 
END:VEVENT
BEGIN:VEVENT
DTSTAMP:20260419T183640
DTSTART;TZID=Europe/Berlin:20260430T103000
DTEND;TZID=Europe/Berlin:20260430T111500
UID:P23113-20260430T103000@GHZDÜREN
SUMMARY:Rückenschule und Wirbelsäulengymnastik (P23113) 
LOCATION:St. Marien-Hospital; Gymnastikraum 1, , 
END:VEVENT
BEGIN:VEVENT
DTSTAMP:20260419T183640
DTSTART;TZID=Europe/Berlin:20260507T103000
DTEND;TZID=Europe/Berlin:20260507T111500
UID:P23113-20260507T103000@GHZDÜREN
SUMMARY:Rückenschule und Wirbelsäulengymnastik (P23113) 
LOCATION:St. Marien-Hospital; Gymnastikraum 1, , 
END:VEVENT
BEGIN:VEVENT
DTSTAMP:20260419T183640
DTSTART;TZID=Europe/Berlin:20260521T103000
DTEND;TZID=Europe/Berlin:20260521T111500
UID:P23113-20260521T103000@GHZDÜREN
SUMMARY:Rückenschule und Wirbelsäulengymnastik (P23113) 
LOCATION:St. Marien-Hospital; Gymnastikraum 1, , 
END:VEVENT
BEGIN:VEVENT
DTSTAMP:20260419T183640
DTSTART;TZID=Europe/Berlin:20260528T103000
DTEND;TZID=Europe/Berlin:20260528T111500
UID:P23113-20260528T103000@GHZDÜREN
SUMMARY:Rückenschule und Wirbelsäulengymnastik (P23113) 
LOCATION:St. Marien-Hospital; Gymnastikraum 1, , 
END:VEVENT
BEGIN:VEVENT
DTSTAMP:20260419T183640
DTSTART;TZID=Europe/Berlin:20260611T103000
DTEND;TZID=Europe/Berlin:20260611T111500
UID:P23113-20260611T103000@GHZDÜREN
SUMMARY:Rückenschule und Wirbelsäulengymnastik (P23113) 
LOCATION:St. Marien-Hospital; Gymnastikraum 1, , 
END:VEVENT
BEGIN:VEVENT
DTSTAMP:20260419T183640
DTSTART;TZID=Europe/Berlin:20260618T103000
DTEND;TZID=Europe/Berlin:20260618T111500
UID:P23113-20260618T103000@GHZDÜREN
SUMMARY:Rückenschule und Wirbelsäulengymnastik (P23113) 
LOCATION:St. Marien-Hospital; Gymnastikraum 1, , 
END:VEVENT
BEGIN:VEVENT
DTSTAMP:20260419T183640
DTSTART;TZID=Europe/Berlin:20260625T103000
DTEND;TZID=Europe/Berlin:20260625T111500
UID:P23113-20260625T103000@GHZDÜREN
SUMMARY:Rückenschule und Wirbelsäulengymnastik (P23113) 
LOCATION:St. Marien-Hospital; Gymnastikraum 1, , 
END:VEVENT
END:VCALENDAR