BEGIN:VCALENDAR
VERSION:2.0
PRODID:https://www.kufer.de/kuferweb / DE
METHOD:PUBLISH
CALSCALE:GREGORIAN
X-WR-TIMEZONE:Europe/Berlin
BEGIN:VTIMEZONE
TZID:Europe/Berlin
X-LIC-LOCATION:Europe/Berlin
BEGIN:DAYLIGHT
TZOFFSETFROM:+0100
TZOFFSETTO:+0200
TZNAME:CEST
DTSTART:19700329T020000
RRULE:FREQ=YEARLY;INTERVAL=1;BYDAY=-1SU;BYMONTH=3
END:DAYLIGHT
BEGIN:STANDARD
TZOFFSETFROM:+0200
TZOFFSETTO:+0100
TZNAME:CET
DTSTART:19701025T030000
RRULE:FREQ=YEARLY;INTERVAL=1;BYDAY=-1SU;BYMONTH=10
END:STANDARD
END:VTIMEZONE
BEGIN:VEVENT
DTSTAMP:20260419T170407
DTSTART;TZID=Europe/Berlin:20260409T184500
DTEND;TZID=Europe/Berlin:20260409T193000
UID:P23117-20260409T184500@GHZDÜREN
SUMMARY:Rückenschule und Wirbelsäulengymnastik (P23117) 
LOCATION:St. Marien-Hospital; Gymnastikraum 1, , 
END:VEVENT
BEGIN:VEVENT
DTSTAMP:20260419T170407
DTSTART;TZID=Europe/Berlin:20260416T184500
DTEND;TZID=Europe/Berlin:20260416T193000
UID:P23117-20260416T184500@GHZDÜREN
SUMMARY:Rückenschule und Wirbelsäulengymnastik (P23117) 
LOCATION:St. Marien-Hospital; Gymnastikraum 1, , 
END:VEVENT
BEGIN:VEVENT
DTSTAMP:20260419T170407
DTSTART;TZID=Europe/Berlin:20260423T184500
DTEND;TZID=Europe/Berlin:20260423T193000
UID:P23117-20260423T184500@GHZDÜREN
SUMMARY:Rückenschule und Wirbelsäulengymnastik (P23117) 
LOCATION:St. Marien-Hospital; Gymnastikraum 1, , 
END:VEVENT
BEGIN:VEVENT
DTSTAMP:20260419T170407
DTSTART;TZID=Europe/Berlin:20260430T184500
DTEND;TZID=Europe/Berlin:20260430T193000
UID:P23117-20260430T184500@GHZDÜREN
SUMMARY:Rückenschule und Wirbelsäulengymnastik (P23117) 
LOCATION:St. Marien-Hospital; Gymnastikraum 1, , 
END:VEVENT
BEGIN:VEVENT
DTSTAMP:20260419T170407
DTSTART;TZID=Europe/Berlin:20260507T184500
DTEND;TZID=Europe/Berlin:20260507T193000
UID:P23117-20260507T184500@GHZDÜREN
SUMMARY:Rückenschule und Wirbelsäulengymnastik (P23117) 
LOCATION:St. Marien-Hospital; Gymnastikraum 1, , 
END:VEVENT
BEGIN:VEVENT
DTSTAMP:20260419T170407
DTSTART;TZID=Europe/Berlin:20260521T184500
DTEND;TZID=Europe/Berlin:20260521T193000
UID:P23117-20260521T184500@GHZDÜREN
SUMMARY:Rückenschule und Wirbelsäulengymnastik (P23117) 
LOCATION:St. Marien-Hospital; Gymnastikraum 1, , 
END:VEVENT
BEGIN:VEVENT
DTSTAMP:20260419T170407
DTSTART;TZID=Europe/Berlin:20260528T184500
DTEND;TZID=Europe/Berlin:20260528T193000
UID:P23117-20260528T184500@GHZDÜREN
SUMMARY:Rückenschule und Wirbelsäulengymnastik (P23117) 
LOCATION:St. Marien-Hospital; Gymnastikraum 1, , 
END:VEVENT
BEGIN:VEVENT
DTSTAMP:20260419T170407
DTSTART;TZID=Europe/Berlin:20260611T184500
DTEND;TZID=Europe/Berlin:20260611T193000
UID:P23117-20260611T184500@GHZDÜREN
SUMMARY:Rückenschule und Wirbelsäulengymnastik (P23117) 
LOCATION:St. Marien-Hospital; Gymnastikraum 1, , 
END:VEVENT
BEGIN:VEVENT
DTSTAMP:20260419T170407
DTSTART;TZID=Europe/Berlin:20260618T184500
DTEND;TZID=Europe/Berlin:20260618T193000
UID:P23117-20260618T184500@GHZDÜREN
SUMMARY:Rückenschule und Wirbelsäulengymnastik (P23117) 
LOCATION:St. Marien-Hospital; Gymnastikraum 1, , 
END:VEVENT
BEGIN:VEVENT
DTSTAMP:20260419T170407
DTSTART;TZID=Europe/Berlin:20260625T184500
DTEND;TZID=Europe/Berlin:20260625T193000
UID:P23117-20260625T184500@GHZDÜREN
SUMMARY:Rückenschule und Wirbelsäulengymnastik (P23117) 
LOCATION:St. Marien-Hospital; Gymnastikraum 1, , 
END:VEVENT
END:VCALENDAR