BEGIN:VCALENDAR
VERSION:2.0
PRODID:https://www.kufer.de/kuferweb / DE
METHOD:PUBLISH
CALSCALE:GREGORIAN
X-WR-TIMEZONE:Europe/Berlin
BEGIN:VTIMEZONE
TZID:Europe/Berlin
X-LIC-LOCATION:Europe/Berlin
BEGIN:DAYLIGHT
TZOFFSETFROM:+0100
TZOFFSETTO:+0200
TZNAME:CEST
DTSTART:19700329T020000
RRULE:FREQ=YEARLY;INTERVAL=1;BYDAY=-1SU;BYMONTH=3
END:DAYLIGHT
BEGIN:STANDARD
TZOFFSETFROM:+0200
TZOFFSETTO:+0100
TZNAME:CET
DTSTART:19701025T030000
RRULE:FREQ=YEARLY;INTERVAL=1;BYDAY=-1SU;BYMONTH=10
END:STANDARD
END:VTIMEZONE
BEGIN:VEVENT
DTSTAMP:20260419T170544
DTSTART;TZID=Europe/Berlin:20260410T110000
DTEND;TZID=Europe/Berlin:20260410T114500
UID:P23122-20260410T110000@GHZDÜREN
SUMMARY:Rückenschule und Wirbelsäulengymnastik (P23122) 
LOCATION:St. Marien-Hospital; Gymnastikraum 1, , 
END:VEVENT
BEGIN:VEVENT
DTSTAMP:20260419T170544
DTSTART;TZID=Europe/Berlin:20260417T110000
DTEND;TZID=Europe/Berlin:20260417T114500
UID:P23122-20260417T110000@GHZDÜREN
SUMMARY:Rückenschule und Wirbelsäulengymnastik (P23122) 
LOCATION:St. Marien-Hospital; Gymnastikraum 1, , 
END:VEVENT
BEGIN:VEVENT
DTSTAMP:20260419T170544
DTSTART;TZID=Europe/Berlin:20260424T110000
DTEND;TZID=Europe/Berlin:20260424T114500
UID:P23122-20260424T110000@GHZDÜREN
SUMMARY:Rückenschule und Wirbelsäulengymnastik (P23122) 
LOCATION:St. Marien-Hospital; Gymnastikraum 1, , 
END:VEVENT
BEGIN:VEVENT
DTSTAMP:20260419T170544
DTSTART;TZID=Europe/Berlin:20260508T110000
DTEND;TZID=Europe/Berlin:20260508T114500
UID:P23122-20260508T110000@GHZDÜREN
SUMMARY:Rückenschule und Wirbelsäulengymnastik (P23122) 
LOCATION:St. Marien-Hospital; Gymnastikraum 1, , 
END:VEVENT
BEGIN:VEVENT
DTSTAMP:20260419T170544
DTSTART;TZID=Europe/Berlin:20260515T110000
DTEND;TZID=Europe/Berlin:20260515T114500
UID:P23122-20260515T110000@GHZDÜREN
SUMMARY:Rückenschule und Wirbelsäulengymnastik (P23122) 
LOCATION:St. Marien-Hospital; Gymnastikraum 1, , 
END:VEVENT
BEGIN:VEVENT
DTSTAMP:20260419T170544
DTSTART;TZID=Europe/Berlin:20260522T110000
DTEND;TZID=Europe/Berlin:20260522T114500
UID:P23122-20260522T110000@GHZDÜREN
SUMMARY:Rückenschule und Wirbelsäulengymnastik (P23122) 
LOCATION:St. Marien-Hospital; Gymnastikraum 1, , 
END:VEVENT
BEGIN:VEVENT
DTSTAMP:20260419T170544
DTSTART;TZID=Europe/Berlin:20260529T110000
DTEND;TZID=Europe/Berlin:20260529T114500
UID:P23122-20260529T110000@GHZDÜREN
SUMMARY:Rückenschule und Wirbelsäulengymnastik (P23122) 
LOCATION:St. Marien-Hospital; Gymnastikraum 1, , 
END:VEVENT
BEGIN:VEVENT
DTSTAMP:20260419T170544
DTSTART;TZID=Europe/Berlin:20260605T110000
DTEND;TZID=Europe/Berlin:20260605T114500
UID:P23122-20260605T110000@GHZDÜREN
SUMMARY:Rückenschule und Wirbelsäulengymnastik (P23122) 
LOCATION:St. Marien-Hospital; Gymnastikraum 1, , 
END:VEVENT
BEGIN:VEVENT
DTSTAMP:20260419T170544
DTSTART;TZID=Europe/Berlin:20260612T110000
DTEND;TZID=Europe/Berlin:20260612T114500
UID:P23122-20260612T110000@GHZDÜREN
SUMMARY:Rückenschule und Wirbelsäulengymnastik (P23122) 
LOCATION:St. Marien-Hospital; Gymnastikraum 1, , 
END:VEVENT
BEGIN:VEVENT
DTSTAMP:20260419T170544
DTSTART;TZID=Europe/Berlin:20260619T110000
DTEND;TZID=Europe/Berlin:20260619T114500
UID:P23122-20260619T110000@GHZDÜREN
SUMMARY:Rückenschule und Wirbelsäulengymnastik (P23122) 
LOCATION:St. Marien-Hospital; Gymnastikraum 1, , 
END:VEVENT
BEGIN:VEVENT
DTSTAMP:20260419T170544
DTSTART;TZID=Europe/Berlin:20260626T110000
DTEND;TZID=Europe/Berlin:20260626T114500
UID:P23122-20260626T110000@GHZDÜREN
SUMMARY:Rückenschule und Wirbelsäulengymnastik (P23122) 
LOCATION:St. Marien-Hospital; Gymnastikraum 1, , 
END:VEVENT
END:VCALENDAR