BEGIN:VCALENDAR
VERSION:2.0
PRODID:https://www.kufer.de/kuferweb / DE
METHOD:PUBLISH
CALSCALE:GREGORIAN
X-WR-TIMEZONE:Europe/Berlin
BEGIN:VTIMEZONE
TZID:Europe/Berlin
X-LIC-LOCATION:Europe/Berlin
BEGIN:DAYLIGHT
TZOFFSETFROM:+0100
TZOFFSETTO:+0200
TZNAME:CEST
DTSTART:19700329T020000
RRULE:FREQ=YEARLY;INTERVAL=1;BYDAY=-1SU;BYMONTH=3
END:DAYLIGHT
BEGIN:STANDARD
TZOFFSETFROM:+0200
TZOFFSETTO:+0100
TZNAME:CET
DTSTART:19701025T030000
RRULE:FREQ=YEARLY;INTERVAL=1;BYDAY=-1SU;BYMONTH=10
END:STANDARD
END:VTIMEZONE
BEGIN:VEVENT
DTSTAMP:20260419T183641
DTSTART;TZID=Europe/Berlin:20260407T091500
DTEND;TZID=Europe/Berlin:20260407T100000
UID:P23217-20260407T091500@GHZDÜREN
SUMMARY:Sport in der Krebsnachsorge (P23217) 
LOCATION:St. Marien-Hospital; Gymnastikraum 2, , 
END:VEVENT
BEGIN:VEVENT
DTSTAMP:20260419T183641
DTSTART;TZID=Europe/Berlin:20260414T091500
DTEND;TZID=Europe/Berlin:20260414T100000
UID:P23217-20260414T091500@GHZDÜREN
SUMMARY:Sport in der Krebsnachsorge (P23217) 
LOCATION:St. Marien-Hospital; Gymnastikraum 2, , 
END:VEVENT
BEGIN:VEVENT
DTSTAMP:20260419T183641
DTSTART;TZID=Europe/Berlin:20260421T091500
DTEND;TZID=Europe/Berlin:20260421T100000
UID:P23217-20260421T091500@GHZDÜREN
SUMMARY:Sport in der Krebsnachsorge (P23217) 
LOCATION:St. Marien-Hospital; Gymnastikraum 2, , 
END:VEVENT
BEGIN:VEVENT
DTSTAMP:20260419T183641
DTSTART;TZID=Europe/Berlin:20260428T091500
DTEND;TZID=Europe/Berlin:20260428T100000
UID:P23217-20260428T091500@GHZDÜREN
SUMMARY:Sport in der Krebsnachsorge (P23217) 
LOCATION:St. Marien-Hospital; Gymnastikraum 2, , 
END:VEVENT
BEGIN:VEVENT
DTSTAMP:20260419T183641
DTSTART;TZID=Europe/Berlin:20260505T091500
DTEND;TZID=Europe/Berlin:20260505T100000
UID:P23217-20260505T091500@GHZDÜREN
SUMMARY:Sport in der Krebsnachsorge (P23217) 
LOCATION:St. Marien-Hospital; Gymnastikraum 2, , 
END:VEVENT
BEGIN:VEVENT
DTSTAMP:20260419T183641
DTSTART;TZID=Europe/Berlin:20260512T091500
DTEND;TZID=Europe/Berlin:20260512T100000
UID:P23217-20260512T091500@GHZDÜREN
SUMMARY:Sport in der Krebsnachsorge (P23217) 
LOCATION:St. Marien-Hospital; Gymnastikraum 2, , 
END:VEVENT
BEGIN:VEVENT
DTSTAMP:20260419T183641
DTSTART;TZID=Europe/Berlin:20260519T091500
DTEND;TZID=Europe/Berlin:20260519T100000
UID:P23217-20260519T091500@GHZDÜREN
SUMMARY:Sport in der Krebsnachsorge (P23217) 
LOCATION:St. Marien-Hospital; Gymnastikraum 2, , 
END:VEVENT
BEGIN:VEVENT
DTSTAMP:20260419T183641
DTSTART;TZID=Europe/Berlin:20260526T091500
DTEND;TZID=Europe/Berlin:20260526T100000
UID:P23217-20260526T091500@GHZDÜREN
SUMMARY:Sport in der Krebsnachsorge (P23217) 
LOCATION:St. Marien-Hospital; Gymnastikraum 2, , 
END:VEVENT
BEGIN:VEVENT
DTSTAMP:20260419T183641
DTSTART;TZID=Europe/Berlin:20260602T091500
DTEND;TZID=Europe/Berlin:20260602T100000
UID:P23217-20260602T091500@GHZDÜREN
SUMMARY:Sport in der Krebsnachsorge (P23217) 
LOCATION:St. Marien-Hospital; Gymnastikraum 2, , 
END:VEVENT
BEGIN:VEVENT
DTSTAMP:20260419T183641
DTSTART;TZID=Europe/Berlin:20260609T091500
DTEND;TZID=Europe/Berlin:20260609T100000
UID:P23217-20260609T091500@GHZDÜREN
SUMMARY:Sport in der Krebsnachsorge (P23217) 
LOCATION:St. Marien-Hospital; Gymnastikraum 2, , 
END:VEVENT
BEGIN:VEVENT
DTSTAMP:20260419T183641
DTSTART;TZID=Europe/Berlin:20260616T091500
DTEND;TZID=Europe/Berlin:20260616T100000
UID:P23217-20260616T091500@GHZDÜREN
SUMMARY:Sport in der Krebsnachsorge (P23217) 
LOCATION:St. Marien-Hospital; Gymnastikraum 2, , 
END:VEVENT
BEGIN:VEVENT
DTSTAMP:20260419T183641
DTSTART;TZID=Europe/Berlin:20260623T091500
DTEND;TZID=Europe/Berlin:20260623T100000
UID:P23217-20260623T091500@GHZDÜREN
SUMMARY:Sport in der Krebsnachsorge (P23217) 
LOCATION:St. Marien-Hospital; Gymnastikraum 2, , 
END:VEVENT
BEGIN:VEVENT
DTSTAMP:20260419T183641
DTSTART;TZID=Europe/Berlin:20260630T091500
DTEND;TZID=Europe/Berlin:20260630T100000
UID:P23217-20260630T091500@GHZDÜREN
SUMMARY:Sport in der Krebsnachsorge (P23217) 
LOCATION:St. Marien-Hospital; Gymnastikraum 2, , 
END:VEVENT
END:VCALENDAR