BEGIN:VCALENDAR
VERSION:2.0
PRODID:https://www.kufer.de/kuferweb / DE
METHOD:PUBLISH
CALSCALE:GREGORIAN
X-WR-TIMEZONE:Europe/Berlin
BEGIN:VTIMEZONE
TZID:Europe/Berlin
X-LIC-LOCATION:Europe/Berlin
BEGIN:DAYLIGHT
TZOFFSETFROM:+0100
TZOFFSETTO:+0200
TZNAME:CEST
DTSTART:19700329T020000
RRULE:FREQ=YEARLY;INTERVAL=1;BYDAY=-1SU;BYMONTH=3
END:DAYLIGHT
BEGIN:STANDARD
TZOFFSETFROM:+0200
TZOFFSETTO:+0100
TZNAME:CET
DTSTART:19701025T030000
RRULE:FREQ=YEARLY;INTERVAL=1;BYDAY=-1SU;BYMONTH=10
END:STANDARD
END:VTIMEZONE
BEGIN:VEVENT
DTSTAMP:20260419T170408
DTSTART;TZID=Europe/Berlin:20260413T084500
DTEND;TZID=Europe/Berlin:20260413T093000
UID:P23502C-20260413T084500@GHZDÜREN
SUMMARY:Wassergymnastik (P23502C) 
LOCATION:KITA am Sonnenweg, Sonneweg 52c, 52355 Düren-Rölsdorf, Sonnenweg 52c, 52355 Düren
END:VEVENT
BEGIN:VEVENT
DTSTAMP:20260419T170408
DTSTART;TZID=Europe/Berlin:20260420T084500
DTEND;TZID=Europe/Berlin:20260420T093000
UID:P23502C-20260420T084500@GHZDÜREN
SUMMARY:Wassergymnastik (P23502C) 
LOCATION:KITA am Sonnenweg, Sonneweg 52c, 52355 Düren-Rölsdorf, Sonnenweg 52c, 52355 Düren
END:VEVENT
BEGIN:VEVENT
DTSTAMP:20260419T170408
DTSTART;TZID=Europe/Berlin:20260427T084500
DTEND;TZID=Europe/Berlin:20260427T093000
UID:P23502C-20260427T084500@GHZDÜREN
SUMMARY:Wassergymnastik (P23502C) 
LOCATION:KITA am Sonnenweg, Sonneweg 52c, 52355 Düren-Rölsdorf, Sonnenweg 52c, 52355 Düren
END:VEVENT
BEGIN:VEVENT
DTSTAMP:20260419T170408
DTSTART;TZID=Europe/Berlin:20260504T084500
DTEND;TZID=Europe/Berlin:20260504T093000
UID:P23502C-20260504T084500@GHZDÜREN
SUMMARY:Wassergymnastik (P23502C) 
LOCATION:KITA am Sonnenweg, Sonneweg 52c, 52355 Düren-Rölsdorf, Sonnenweg 52c, 52355 Düren
END:VEVENT
BEGIN:VEVENT
DTSTAMP:20260419T170408
DTSTART;TZID=Europe/Berlin:20260511T084500
DTEND;TZID=Europe/Berlin:20260511T093000
UID:P23502C-20260511T084500@GHZDÜREN
SUMMARY:Wassergymnastik (P23502C) 
LOCATION:KITA am Sonnenweg, Sonneweg 52c, 52355 Düren-Rölsdorf, Sonnenweg 52c, 52355 Düren
END:VEVENT
BEGIN:VEVENT
DTSTAMP:20260419T170408
DTSTART;TZID=Europe/Berlin:20260518T084500
DTEND;TZID=Europe/Berlin:20260518T093000
UID:P23502C-20260518T084500@GHZDÜREN
SUMMARY:Wassergymnastik (P23502C) 
LOCATION:KITA am Sonnenweg, Sonneweg 52c, 52355 Düren-Rölsdorf, Sonnenweg 52c, 52355 Düren
END:VEVENT
BEGIN:VEVENT
DTSTAMP:20260419T170408
DTSTART;TZID=Europe/Berlin:20260601T084500
DTEND;TZID=Europe/Berlin:20260601T093000
UID:P23502C-20260601T084500@GHZDÜREN
SUMMARY:Wassergymnastik (P23502C) 
LOCATION:KITA am Sonnenweg, Sonneweg 52c, 52355 Düren-Rölsdorf, Sonnenweg 52c, 52355 Düren
END:VEVENT
BEGIN:VEVENT
DTSTAMP:20260419T170408
DTSTART;TZID=Europe/Berlin:20260608T084500
DTEND;TZID=Europe/Berlin:20260608T093000
UID:P23502C-20260608T084500@GHZDÜREN
SUMMARY:Wassergymnastik (P23502C) 
LOCATION:KITA am Sonnenweg, Sonneweg 52c, 52355 Düren-Rölsdorf, Sonnenweg 52c, 52355 Düren
END:VEVENT
BEGIN:VEVENT
DTSTAMP:20260419T170408
DTSTART;TZID=Europe/Berlin:20260615T084500
DTEND;TZID=Europe/Berlin:20260615T093000
UID:P23502C-20260615T084500@GHZDÜREN
SUMMARY:Wassergymnastik (P23502C) 
LOCATION:KITA am Sonnenweg, Sonneweg 52c, 52355 Düren-Rölsdorf, Sonnenweg 52c, 52355 Düren
END:VEVENT
BEGIN:VEVENT
DTSTAMP:20260419T170408
DTSTART;TZID=Europe/Berlin:20260622T084500
DTEND;TZID=Europe/Berlin:20260622T093000
UID:P23502C-20260622T084500@GHZDÜREN
SUMMARY:Wassergymnastik (P23502C) 
LOCATION:KITA am Sonnenweg, Sonneweg 52c, 52355 Düren-Rölsdorf, Sonnenweg 52c, 52355 Düren
END:VEVENT
BEGIN:VEVENT
DTSTAMP:20260419T170408
DTSTART;TZID=Europe/Berlin:20260629T084500
DTEND;TZID=Europe/Berlin:20260629T093000
UID:P23502C-20260629T084500@GHZDÜREN
SUMMARY:Wassergymnastik (P23502C) 
LOCATION:KITA am Sonnenweg, Sonneweg 52c, 52355 Düren-Rölsdorf, Sonnenweg 52c, 52355 Düren
END:VEVENT
END:VCALENDAR