BEGIN:VCALENDAR
VERSION:2.0
PRODID:https://www.kufer.de/kuferweb / DE
METHOD:PUBLISH
CALSCALE:GREGORIAN
X-WR-TIMEZONE:Europe/Berlin
BEGIN:VTIMEZONE
TZID:Europe/Berlin
X-LIC-LOCATION:Europe/Berlin
BEGIN:DAYLIGHT
TZOFFSETFROM:+0100
TZOFFSETTO:+0200
TZNAME:CEST
DTSTART:19700329T020000
RRULE:FREQ=YEARLY;INTERVAL=1;BYDAY=-1SU;BYMONTH=3
END:DAYLIGHT
BEGIN:STANDARD
TZOFFSETFROM:+0200
TZOFFSETTO:+0100
TZNAME:CET
DTSTART:19701025T030000
RRULE:FREQ=YEARLY;INTERVAL=1;BYDAY=-1SU;BYMONTH=10
END:STANDARD
END:VTIMEZONE
BEGIN:VEVENT
DTSTAMP:20260419T203735
DTSTART;TZID=Europe/Berlin:20260706T094500
DTEND;TZID=Europe/Berlin:20260706T103000
UID:P33102-20260706T094500@GHZDÜREN
SUMMARY:Rückenschule und Wirbelsäulengymnastik (P33102) 
LOCATION:St. Marien-Hospital; Gymnastikraum 1, , 
END:VEVENT
BEGIN:VEVENT
DTSTAMP:20260419T203735
DTSTART;TZID=Europe/Berlin:20260713T094500
DTEND;TZID=Europe/Berlin:20260713T103000
UID:P33102-20260713T094500@GHZDÜREN
SUMMARY:Rückenschule und Wirbelsäulengymnastik (P33102) 
LOCATION:St. Marien-Hospital; Gymnastikraum 1, , 
END:VEVENT
BEGIN:VEVENT
DTSTAMP:20260419T203735
DTSTART;TZID=Europe/Berlin:20260720T094500
DTEND;TZID=Europe/Berlin:20260720T103000
UID:P33102-20260720T094500@GHZDÜREN
SUMMARY:Rückenschule und Wirbelsäulengymnastik (P33102) 
LOCATION:St. Marien-Hospital; Gymnastikraum 1, , 
END:VEVENT
BEGIN:VEVENT
DTSTAMP:20260419T203735
DTSTART;TZID=Europe/Berlin:20260727T094500
DTEND;TZID=Europe/Berlin:20260727T103000
UID:P33102-20260727T094500@GHZDÜREN
SUMMARY:Rückenschule und Wirbelsäulengymnastik (P33102) 
LOCATION:St. Marien-Hospital; Gymnastikraum 1, , 
END:VEVENT
BEGIN:VEVENT
DTSTAMP:20260419T203735
DTSTART;TZID=Europe/Berlin:20260803T094500
DTEND;TZID=Europe/Berlin:20260803T103000
UID:P33102-20260803T094500@GHZDÜREN
SUMMARY:Rückenschule und Wirbelsäulengymnastik (P33102) 
LOCATION:St. Marien-Hospital; Gymnastikraum 1, , 
END:VEVENT
BEGIN:VEVENT
DTSTAMP:20260419T203735
DTSTART;TZID=Europe/Berlin:20260810T094500
DTEND;TZID=Europe/Berlin:20260810T103000
UID:P33102-20260810T094500@GHZDÜREN
SUMMARY:Rückenschule und Wirbelsäulengymnastik (P33102) 
LOCATION:St. Marien-Hospital; Gymnastikraum 1, , 
END:VEVENT
BEGIN:VEVENT
DTSTAMP:20260419T203735
DTSTART;TZID=Europe/Berlin:20260817T094500
DTEND;TZID=Europe/Berlin:20260817T103000
UID:P33102-20260817T094500@GHZDÜREN
SUMMARY:Rückenschule und Wirbelsäulengymnastik (P33102) 
LOCATION:St. Marien-Hospital; Gymnastikraum 1, , 
END:VEVENT
BEGIN:VEVENT
DTSTAMP:20260419T203735
DTSTART;TZID=Europe/Berlin:20260824T094500
DTEND;TZID=Europe/Berlin:20260824T103000
UID:P33102-20260824T094500@GHZDÜREN
SUMMARY:Rückenschule und Wirbelsäulengymnastik (P33102) 
LOCATION:St. Marien-Hospital; Gymnastikraum 1, , 
END:VEVENT
BEGIN:VEVENT
DTSTAMP:20260419T203735
DTSTART;TZID=Europe/Berlin:20260831T094500
DTEND;TZID=Europe/Berlin:20260831T103000
UID:P33102-20260831T094500@GHZDÜREN
SUMMARY:Rückenschule und Wirbelsäulengymnastik (P33102) 
LOCATION:St. Marien-Hospital; Gymnastikraum 1, , 
END:VEVENT
BEGIN:VEVENT
DTSTAMP:20260419T203735
DTSTART;TZID=Europe/Berlin:20260907T094500
DTEND;TZID=Europe/Berlin:20260907T103000
UID:P33102-20260907T094500@GHZDÜREN
SUMMARY:Rückenschule und Wirbelsäulengymnastik (P33102) 
LOCATION:St. Marien-Hospital; Gymnastikraum 1, , 
END:VEVENT
BEGIN:VEVENT
DTSTAMP:20260419T203735
DTSTART;TZID=Europe/Berlin:20260914T094500
DTEND;TZID=Europe/Berlin:20260914T103000
UID:P33102-20260914T094500@GHZDÜREN
SUMMARY:Rückenschule und Wirbelsäulengymnastik (P33102) 
LOCATION:St. Marien-Hospital; Gymnastikraum 1, , 
END:VEVENT
BEGIN:VEVENT
DTSTAMP:20260419T203735
DTSTART;TZID=Europe/Berlin:20260921T094500
DTEND;TZID=Europe/Berlin:20260921T103000
UID:P33102-20260921T094500@GHZDÜREN
SUMMARY:Rückenschule und Wirbelsäulengymnastik (P33102) 
LOCATION:St. Marien-Hospital; Gymnastikraum 1, , 
END:VEVENT
BEGIN:VEVENT
DTSTAMP:20260419T203735
DTSTART;TZID=Europe/Berlin:20260928T094500
DTEND;TZID=Europe/Berlin:20260928T103000
UID:P33102-20260928T094500@GHZDÜREN
SUMMARY:Rückenschule und Wirbelsäulengymnastik (P33102) 
LOCATION:St. Marien-Hospital; Gymnastikraum 1, , 
END:VEVENT
END:VCALENDAR