BEGIN:VCALENDAR
VERSION:2.0
PRODID:https://www.kufer.de/kuferweb / DE
METHOD:PUBLISH
CALSCALE:GREGORIAN
X-WR-TIMEZONE:Europe/Berlin
BEGIN:VTIMEZONE
TZID:Europe/Berlin
X-LIC-LOCATION:Europe/Berlin
BEGIN:DAYLIGHT
TZOFFSETFROM:+0100
TZOFFSETTO:+0200
TZNAME:CEST
DTSTART:19700329T020000
RRULE:FREQ=YEARLY;INTERVAL=1;BYDAY=-1SU;BYMONTH=3
END:DAYLIGHT
BEGIN:STANDARD
TZOFFSETFROM:+0200
TZOFFSETTO:+0100
TZNAME:CET
DTSTART:19701025T030000
RRULE:FREQ=YEARLY;INTERVAL=1;BYDAY=-1SU;BYMONTH=10
END:STANDARD
END:VTIMEZONE
BEGIN:VEVENT
DTSTAMP:20260419T203735
DTSTART;TZID=Europe/Berlin:20260706T103000
DTEND;TZID=Europe/Berlin:20260706T111500
UID:P33103-20260706T103000@GHZDÜREN
SUMMARY:Rückenschule und Wirbelsäulengymnastik (P33103) 
LOCATION:St. Marien-Hospital; Gymnastikraum 1, , 
END:VEVENT
BEGIN:VEVENT
DTSTAMP:20260419T203735
DTSTART;TZID=Europe/Berlin:20260713T103000
DTEND;TZID=Europe/Berlin:20260713T111500
UID:P33103-20260713T103000@GHZDÜREN
SUMMARY:Rückenschule und Wirbelsäulengymnastik (P33103) 
LOCATION:St. Marien-Hospital; Gymnastikraum 1, , 
END:VEVENT
BEGIN:VEVENT
DTSTAMP:20260419T203735
DTSTART;TZID=Europe/Berlin:20260720T103000
DTEND;TZID=Europe/Berlin:20260720T111500
UID:P33103-20260720T103000@GHZDÜREN
SUMMARY:Rückenschule und Wirbelsäulengymnastik (P33103) 
LOCATION:St. Marien-Hospital; Gymnastikraum 1, , 
END:VEVENT
BEGIN:VEVENT
DTSTAMP:20260419T203735
DTSTART;TZID=Europe/Berlin:20260727T103000
DTEND;TZID=Europe/Berlin:20260727T111500
UID:P33103-20260727T103000@GHZDÜREN
SUMMARY:Rückenschule und Wirbelsäulengymnastik (P33103) 
LOCATION:St. Marien-Hospital; Gymnastikraum 1, , 
END:VEVENT
BEGIN:VEVENT
DTSTAMP:20260419T203735
DTSTART;TZID=Europe/Berlin:20260803T103000
DTEND;TZID=Europe/Berlin:20260803T111500
UID:P33103-20260803T103000@GHZDÜREN
SUMMARY:Rückenschule und Wirbelsäulengymnastik (P33103) 
LOCATION:St. Marien-Hospital; Gymnastikraum 1, , 
END:VEVENT
BEGIN:VEVENT
DTSTAMP:20260419T203735
DTSTART;TZID=Europe/Berlin:20260810T103000
DTEND;TZID=Europe/Berlin:20260810T111500
UID:P33103-20260810T103000@GHZDÜREN
SUMMARY:Rückenschule und Wirbelsäulengymnastik (P33103) 
LOCATION:St. Marien-Hospital; Gymnastikraum 1, , 
END:VEVENT
BEGIN:VEVENT
DTSTAMP:20260419T203735
DTSTART;TZID=Europe/Berlin:20260817T103000
DTEND;TZID=Europe/Berlin:20260817T111500
UID:P33103-20260817T103000@GHZDÜREN
SUMMARY:Rückenschule und Wirbelsäulengymnastik (P33103) 
LOCATION:St. Marien-Hospital; Gymnastikraum 1, , 
END:VEVENT
BEGIN:VEVENT
DTSTAMP:20260419T203735
DTSTART;TZID=Europe/Berlin:20260824T103000
DTEND;TZID=Europe/Berlin:20260824T111500
UID:P33103-20260824T103000@GHZDÜREN
SUMMARY:Rückenschule und Wirbelsäulengymnastik (P33103) 
LOCATION:St. Marien-Hospital; Gymnastikraum 1, , 
END:VEVENT
BEGIN:VEVENT
DTSTAMP:20260419T203735
DTSTART;TZID=Europe/Berlin:20260831T103000
DTEND;TZID=Europe/Berlin:20260831T111500
UID:P33103-20260831T103000@GHZDÜREN
SUMMARY:Rückenschule und Wirbelsäulengymnastik (P33103) 
LOCATION:St. Marien-Hospital; Gymnastikraum 1, , 
END:VEVENT
BEGIN:VEVENT
DTSTAMP:20260419T203735
DTSTART;TZID=Europe/Berlin:20260907T103000
DTEND;TZID=Europe/Berlin:20260907T111500
UID:P33103-20260907T103000@GHZDÜREN
SUMMARY:Rückenschule und Wirbelsäulengymnastik (P33103) 
LOCATION:St. Marien-Hospital; Gymnastikraum 1, , 
END:VEVENT
BEGIN:VEVENT
DTSTAMP:20260419T203735
DTSTART;TZID=Europe/Berlin:20260914T103000
DTEND;TZID=Europe/Berlin:20260914T111500
UID:P33103-20260914T103000@GHZDÜREN
SUMMARY:Rückenschule und Wirbelsäulengymnastik (P33103) 
LOCATION:St. Marien-Hospital; Gymnastikraum 1, , 
END:VEVENT
BEGIN:VEVENT
DTSTAMP:20260419T203735
DTSTART;TZID=Europe/Berlin:20260921T103000
DTEND;TZID=Europe/Berlin:20260921T111500
UID:P33103-20260921T103000@GHZDÜREN
SUMMARY:Rückenschule und Wirbelsäulengymnastik (P33103) 
LOCATION:St. Marien-Hospital; Gymnastikraum 1, , 
END:VEVENT
BEGIN:VEVENT
DTSTAMP:20260419T203735
DTSTART;TZID=Europe/Berlin:20260928T103000
DTEND;TZID=Europe/Berlin:20260928T111500
UID:P33103-20260928T103000@GHZDÜREN
SUMMARY:Rückenschule und Wirbelsäulengymnastik (P33103) 
LOCATION:St. Marien-Hospital; Gymnastikraum 1, , 
END:VEVENT
END:VCALENDAR