BEGIN:VCALENDAR
VERSION:2.0
PRODID:https://www.kufer.de/kuferweb / DE
METHOD:PUBLISH
CALSCALE:GREGORIAN
X-WR-TIMEZONE:Europe/Berlin
BEGIN:VTIMEZONE
TZID:Europe/Berlin
X-LIC-LOCATION:Europe/Berlin
BEGIN:DAYLIGHT
TZOFFSETFROM:+0100
TZOFFSETTO:+0200
TZNAME:CEST
DTSTART:19700329T020000
RRULE:FREQ=YEARLY;INTERVAL=1;BYDAY=-1SU;BYMONTH=3
END:DAYLIGHT
BEGIN:STANDARD
TZOFFSETFROM:+0200
TZOFFSETTO:+0100
TZNAME:CET
DTSTART:19701025T030000
RRULE:FREQ=YEARLY;INTERVAL=1;BYDAY=-1SU;BYMONTH=10
END:STANDARD
END:VTIMEZONE
BEGIN:VEVENT
DTSTAMP:20260419T203735
DTSTART;TZID=Europe/Berlin:20260707T180000
DTEND;TZID=Europe/Berlin:20260707T184500
UID:P33110-20260707T180000@GHZDÜREN
SUMMARY:Rückenschule und Wirbelsäulengymnastik (P33110) 
LOCATION:St. Marien-Hospital; Gymnastikraum 1, , 
END:VEVENT
BEGIN:VEVENT
DTSTAMP:20260419T203735
DTSTART;TZID=Europe/Berlin:20260714T180000
DTEND;TZID=Europe/Berlin:20260714T184500
UID:P33110-20260714T180000@GHZDÜREN
SUMMARY:Rückenschule und Wirbelsäulengymnastik (P33110) 
LOCATION:St. Marien-Hospital; Gymnastikraum 1, , 
END:VEVENT
BEGIN:VEVENT
DTSTAMP:20260419T203735
DTSTART;TZID=Europe/Berlin:20260721T180000
DTEND;TZID=Europe/Berlin:20260721T184500
UID:P33110-20260721T180000@GHZDÜREN
SUMMARY:Rückenschule und Wirbelsäulengymnastik (P33110) 
LOCATION:St. Marien-Hospital; Gymnastikraum 1, , 
END:VEVENT
BEGIN:VEVENT
DTSTAMP:20260419T203735
DTSTART;TZID=Europe/Berlin:20260728T180000
DTEND;TZID=Europe/Berlin:20260728T184500
UID:P33110-20260728T180000@GHZDÜREN
SUMMARY:Rückenschule und Wirbelsäulengymnastik (P33110) 
LOCATION:St. Marien-Hospital; Gymnastikraum 1, , 
END:VEVENT
BEGIN:VEVENT
DTSTAMP:20260419T203735
DTSTART;TZID=Europe/Berlin:20260804T180000
DTEND;TZID=Europe/Berlin:20260804T184500
UID:P33110-20260804T180000@GHZDÜREN
SUMMARY:Rückenschule und Wirbelsäulengymnastik (P33110) 
LOCATION:St. Marien-Hospital; Gymnastikraum 1, , 
END:VEVENT
BEGIN:VEVENT
DTSTAMP:20260419T203735
DTSTART;TZID=Europe/Berlin:20260811T180000
DTEND;TZID=Europe/Berlin:20260811T184500
UID:P33110-20260811T180000@GHZDÜREN
SUMMARY:Rückenschule und Wirbelsäulengymnastik (P33110) 
LOCATION:St. Marien-Hospital; Gymnastikraum 1, , 
END:VEVENT
BEGIN:VEVENT
DTSTAMP:20260419T203735
DTSTART;TZID=Europe/Berlin:20260818T180000
DTEND;TZID=Europe/Berlin:20260818T184500
UID:P33110-20260818T180000@GHZDÜREN
SUMMARY:Rückenschule und Wirbelsäulengymnastik (P33110) 
LOCATION:St. Marien-Hospital; Gymnastikraum 1, , 
END:VEVENT
BEGIN:VEVENT
DTSTAMP:20260419T203735
DTSTART;TZID=Europe/Berlin:20260825T180000
DTEND;TZID=Europe/Berlin:20260825T184500
UID:P33110-20260825T180000@GHZDÜREN
SUMMARY:Rückenschule und Wirbelsäulengymnastik (P33110) 
LOCATION:St. Marien-Hospital; Gymnastikraum 1, , 
END:VEVENT
BEGIN:VEVENT
DTSTAMP:20260419T203735
DTSTART;TZID=Europe/Berlin:20260901T180000
DTEND;TZID=Europe/Berlin:20260901T184500
UID:P33110-20260901T180000@GHZDÜREN
SUMMARY:Rückenschule und Wirbelsäulengymnastik (P33110) 
LOCATION:St. Marien-Hospital; Gymnastikraum 1, , 
END:VEVENT
BEGIN:VEVENT
DTSTAMP:20260419T203735
DTSTART;TZID=Europe/Berlin:20260908T180000
DTEND;TZID=Europe/Berlin:20260908T184500
UID:P33110-20260908T180000@GHZDÜREN
SUMMARY:Rückenschule und Wirbelsäulengymnastik (P33110) 
LOCATION:St. Marien-Hospital; Gymnastikraum 1, , 
END:VEVENT
BEGIN:VEVENT
DTSTAMP:20260419T203735
DTSTART;TZID=Europe/Berlin:20260915T180000
DTEND;TZID=Europe/Berlin:20260915T184500
UID:P33110-20260915T180000@GHZDÜREN
SUMMARY:Rückenschule und Wirbelsäulengymnastik (P33110) 
LOCATION:St. Marien-Hospital; Gymnastikraum 1, , 
END:VEVENT
BEGIN:VEVENT
DTSTAMP:20260419T203735
DTSTART;TZID=Europe/Berlin:20260922T180000
DTEND;TZID=Europe/Berlin:20260922T184500
UID:P33110-20260922T180000@GHZDÜREN
SUMMARY:Rückenschule und Wirbelsäulengymnastik (P33110) 
LOCATION:St. Marien-Hospital; Gymnastikraum 1, , 
END:VEVENT
BEGIN:VEVENT
DTSTAMP:20260419T203735
DTSTART;TZID=Europe/Berlin:20260929T180000
DTEND;TZID=Europe/Berlin:20260929T184500
UID:P33110-20260929T180000@GHZDÜREN
SUMMARY:Rückenschule und Wirbelsäulengymnastik (P33110) 
LOCATION:St. Marien-Hospital; Gymnastikraum 1, , 
END:VEVENT
END:VCALENDAR