BEGIN:VCALENDAR
VERSION:2.0
PRODID:https://www.kufer.de/kuferweb / DE
METHOD:PUBLISH
CALSCALE:GREGORIAN
X-WR-TIMEZONE:Europe/Berlin
BEGIN:VTIMEZONE
TZID:Europe/Berlin
X-LIC-LOCATION:Europe/Berlin
BEGIN:DAYLIGHT
TZOFFSETFROM:+0100
TZOFFSETTO:+0200
TZNAME:CEST
DTSTART:19700329T020000
RRULE:FREQ=YEARLY;INTERVAL=1;BYDAY=-1SU;BYMONTH=3
END:DAYLIGHT
BEGIN:STANDARD
TZOFFSETFROM:+0200
TZOFFSETTO:+0100
TZNAME:CET
DTSTART:19701025T030000
RRULE:FREQ=YEARLY;INTERVAL=1;BYDAY=-1SU;BYMONTH=10
END:STANDARD
END:VTIMEZONE
BEGIN:VEVENT
DTSTAMP:20260419T191006
DTSTART;TZID=Europe/Berlin:20260702T103000
DTEND;TZID=Europe/Berlin:20260702T111500
UID:P33113-20260702T103000@GHZDÜREN
SUMMARY:Rückenschule und Wirbelsäulengymnastik (P33113) 
LOCATION:St. Marien-Hospital; Gymnastikraum 1, , 
END:VEVENT
BEGIN:VEVENT
DTSTAMP:20260419T191006
DTSTART;TZID=Europe/Berlin:20260709T103000
DTEND;TZID=Europe/Berlin:20260709T111500
UID:P33113-20260709T103000@GHZDÜREN
SUMMARY:Rückenschule und Wirbelsäulengymnastik (P33113) 
LOCATION:St. Marien-Hospital; Gymnastikraum 1, , 
END:VEVENT
BEGIN:VEVENT
DTSTAMP:20260419T191006
DTSTART;TZID=Europe/Berlin:20260716T103000
DTEND;TZID=Europe/Berlin:20260716T111500
UID:P33113-20260716T103000@GHZDÜREN
SUMMARY:Rückenschule und Wirbelsäulengymnastik (P33113) 
LOCATION:St. Marien-Hospital; Gymnastikraum 1, , 
END:VEVENT
BEGIN:VEVENT
DTSTAMP:20260419T191006
DTSTART;TZID=Europe/Berlin:20260723T103000
DTEND;TZID=Europe/Berlin:20260723T111500
UID:P33113-20260723T103000@GHZDÜREN
SUMMARY:Rückenschule und Wirbelsäulengymnastik (P33113) 
LOCATION:St. Marien-Hospital; Gymnastikraum 1, , 
END:VEVENT
BEGIN:VEVENT
DTSTAMP:20260419T191006
DTSTART;TZID=Europe/Berlin:20260730T103000
DTEND;TZID=Europe/Berlin:20260730T111500
UID:P33113-20260730T103000@GHZDÜREN
SUMMARY:Rückenschule und Wirbelsäulengymnastik (P33113) 
LOCATION:St. Marien-Hospital; Gymnastikraum 1, , 
END:VEVENT
BEGIN:VEVENT
DTSTAMP:20260419T191006
DTSTART;TZID=Europe/Berlin:20260806T103000
DTEND;TZID=Europe/Berlin:20260806T111500
UID:P33113-20260806T103000@GHZDÜREN
SUMMARY:Rückenschule und Wirbelsäulengymnastik (P33113) 
LOCATION:St. Marien-Hospital; Gymnastikraum 1, , 
END:VEVENT
BEGIN:VEVENT
DTSTAMP:20260419T191006
DTSTART;TZID=Europe/Berlin:20260813T103000
DTEND;TZID=Europe/Berlin:20260813T111500
UID:P33113-20260813T103000@GHZDÜREN
SUMMARY:Rückenschule und Wirbelsäulengymnastik (P33113) 
LOCATION:St. Marien-Hospital; Gymnastikraum 1, , 
END:VEVENT
BEGIN:VEVENT
DTSTAMP:20260419T191006
DTSTART;TZID=Europe/Berlin:20260820T103000
DTEND;TZID=Europe/Berlin:20260820T111500
UID:P33113-20260820T103000@GHZDÜREN
SUMMARY:Rückenschule und Wirbelsäulengymnastik (P33113) 
LOCATION:St. Marien-Hospital; Gymnastikraum 1, , 
END:VEVENT
BEGIN:VEVENT
DTSTAMP:20260419T191006
DTSTART;TZID=Europe/Berlin:20260827T103000
DTEND;TZID=Europe/Berlin:20260827T111500
UID:P33113-20260827T103000@GHZDÜREN
SUMMARY:Rückenschule und Wirbelsäulengymnastik (P33113) 
LOCATION:St. Marien-Hospital; Gymnastikraum 1, , 
END:VEVENT
BEGIN:VEVENT
DTSTAMP:20260419T191006
DTSTART;TZID=Europe/Berlin:20260903T103000
DTEND;TZID=Europe/Berlin:20260903T111500
UID:P33113-20260903T103000@GHZDÜREN
SUMMARY:Rückenschule und Wirbelsäulengymnastik (P33113) 
LOCATION:St. Marien-Hospital; Gymnastikraum 1, , 
END:VEVENT
BEGIN:VEVENT
DTSTAMP:20260419T191006
DTSTART;TZID=Europe/Berlin:20260910T103000
DTEND;TZID=Europe/Berlin:20260910T111500
UID:P33113-20260910T103000@GHZDÜREN
SUMMARY:Rückenschule und Wirbelsäulengymnastik (P33113) 
LOCATION:St. Marien-Hospital; Gymnastikraum 1, , 
END:VEVENT
BEGIN:VEVENT
DTSTAMP:20260419T191006
DTSTART;TZID=Europe/Berlin:20260917T103000
DTEND;TZID=Europe/Berlin:20260917T111500
UID:P33113-20260917T103000@GHZDÜREN
SUMMARY:Rückenschule und Wirbelsäulengymnastik (P33113) 
LOCATION:St. Marien-Hospital; Gymnastikraum 1, , 
END:VEVENT
BEGIN:VEVENT
DTSTAMP:20260419T191006
DTSTART;TZID=Europe/Berlin:20260924T103000
DTEND;TZID=Europe/Berlin:20260924T111500
UID:P33113-20260924T103000@GHZDÜREN
SUMMARY:Rückenschule und Wirbelsäulengymnastik (P33113) 
LOCATION:St. Marien-Hospital; Gymnastikraum 1, , 
END:VEVENT
END:VCALENDAR