BEGIN:VCALENDAR
VERSION:2.0
PRODID:https://www.kufer.de/kuferweb / DE
METHOD:PUBLISH
CALSCALE:GREGORIAN
X-WR-TIMEZONE:Europe/Berlin
BEGIN:VTIMEZONE
TZID:Europe/Berlin
X-LIC-LOCATION:Europe/Berlin
BEGIN:DAYLIGHT
TZOFFSETFROM:+0100
TZOFFSETTO:+0200
TZNAME:CEST
DTSTART:19700329T020000
RRULE:FREQ=YEARLY;INTERVAL=1;BYDAY=-1SU;BYMONTH=3
END:DAYLIGHT
BEGIN:STANDARD
TZOFFSETFROM:+0200
TZOFFSETTO:+0100
TZNAME:CET
DTSTART:19701025T030000
RRULE:FREQ=YEARLY;INTERVAL=1;BYDAY=-1SU;BYMONTH=10
END:STANDARD
END:VTIMEZONE
BEGIN:VEVENT
DTSTAMP:20260419T185915
DTSTART;TZID=Europe/Berlin:20260702T171500
DTEND;TZID=Europe/Berlin:20260702T180000
UID:P33115-20260702T171500@GHZDÜREN
SUMMARY:Rückenschule und Wirbelsäulengymnastik (P33115) 
LOCATION:St. Marien-Hospital; Gymnastikraum 1, , 
END:VEVENT
BEGIN:VEVENT
DTSTAMP:20260419T185915
DTSTART;TZID=Europe/Berlin:20260709T171500
DTEND;TZID=Europe/Berlin:20260709T180000
UID:P33115-20260709T171500@GHZDÜREN
SUMMARY:Rückenschule und Wirbelsäulengymnastik (P33115) 
LOCATION:St. Marien-Hospital; Gymnastikraum 1, , 
END:VEVENT
BEGIN:VEVENT
DTSTAMP:20260419T185915
DTSTART;TZID=Europe/Berlin:20260716T171500
DTEND;TZID=Europe/Berlin:20260716T180000
UID:P33115-20260716T171500@GHZDÜREN
SUMMARY:Rückenschule und Wirbelsäulengymnastik (P33115) 
LOCATION:St. Marien-Hospital; Gymnastikraum 1, , 
END:VEVENT
BEGIN:VEVENT
DTSTAMP:20260419T185915
DTSTART;TZID=Europe/Berlin:20260723T171500
DTEND;TZID=Europe/Berlin:20260723T180000
UID:P33115-20260723T171500@GHZDÜREN
SUMMARY:Rückenschule und Wirbelsäulengymnastik (P33115) 
LOCATION:St. Marien-Hospital; Gymnastikraum 1, , 
END:VEVENT
BEGIN:VEVENT
DTSTAMP:20260419T185915
DTSTART;TZID=Europe/Berlin:20260730T171500
DTEND;TZID=Europe/Berlin:20260730T180000
UID:P33115-20260730T171500@GHZDÜREN
SUMMARY:Rückenschule und Wirbelsäulengymnastik (P33115) 
LOCATION:St. Marien-Hospital; Gymnastikraum 1, , 
END:VEVENT
BEGIN:VEVENT
DTSTAMP:20260419T185915
DTSTART;TZID=Europe/Berlin:20260806T171500
DTEND;TZID=Europe/Berlin:20260806T180000
UID:P33115-20260806T171500@GHZDÜREN
SUMMARY:Rückenschule und Wirbelsäulengymnastik (P33115) 
LOCATION:St. Marien-Hospital; Gymnastikraum 1, , 
END:VEVENT
BEGIN:VEVENT
DTSTAMP:20260419T185915
DTSTART;TZID=Europe/Berlin:20260827T171500
DTEND;TZID=Europe/Berlin:20260827T180000
UID:P33115-20260827T171500@GHZDÜREN
SUMMARY:Rückenschule und Wirbelsäulengymnastik (P33115) 
LOCATION:St. Marien-Hospital; Gymnastikraum 1, , 
END:VEVENT
BEGIN:VEVENT
DTSTAMP:20260419T185915
DTSTART;TZID=Europe/Berlin:20260903T171500
DTEND;TZID=Europe/Berlin:20260903T180000
UID:P33115-20260903T171500@GHZDÜREN
SUMMARY:Rückenschule und Wirbelsäulengymnastik (P33115) 
LOCATION:St. Marien-Hospital; Gymnastikraum 1, , 
END:VEVENT
BEGIN:VEVENT
DTSTAMP:20260419T185915
DTSTART;TZID=Europe/Berlin:20260910T171500
DTEND;TZID=Europe/Berlin:20260910T180000
UID:P33115-20260910T171500@GHZDÜREN
SUMMARY:Rückenschule und Wirbelsäulengymnastik (P33115) 
LOCATION:St. Marien-Hospital; Gymnastikraum 1, , 
END:VEVENT
BEGIN:VEVENT
DTSTAMP:20260419T185915
DTSTART;TZID=Europe/Berlin:20260917T171500
DTEND;TZID=Europe/Berlin:20260917T180000
UID:P33115-20260917T171500@GHZDÜREN
SUMMARY:Rückenschule und Wirbelsäulengymnastik (P33115) 
LOCATION:St. Marien-Hospital; Gymnastikraum 1, , 
END:VEVENT
BEGIN:VEVENT
DTSTAMP:20260419T185915
DTSTART;TZID=Europe/Berlin:20260924T171500
DTEND;TZID=Europe/Berlin:20260924T180000
UID:P33115-20260924T171500@GHZDÜREN
SUMMARY:Rückenschule und Wirbelsäulengymnastik (P33115) 
LOCATION:St. Marien-Hospital; Gymnastikraum 1, , 
END:VEVENT
END:VCALENDAR