BEGIN:VCALENDAR
VERSION:2.0
PRODID:https://www.kufer.de/kuferweb / DE
METHOD:PUBLISH
CALSCALE:GREGORIAN
X-WR-TIMEZONE:Europe/Berlin
BEGIN:VTIMEZONE
TZID:Europe/Berlin
X-LIC-LOCATION:Europe/Berlin
BEGIN:DAYLIGHT
TZOFFSETFROM:+0100
TZOFFSETTO:+0200
TZNAME:CEST
DTSTART:19700329T020000
RRULE:FREQ=YEARLY;INTERVAL=1;BYDAY=-1SU;BYMONTH=3
END:DAYLIGHT
BEGIN:STANDARD
TZOFFSETFROM:+0200
TZOFFSETTO:+0100
TZNAME:CET
DTSTART:19701025T030000
RRULE:FREQ=YEARLY;INTERVAL=1;BYDAY=-1SU;BYMONTH=10
END:STANDARD
END:VTIMEZONE
BEGIN:VEVENT
DTSTAMP:20260419T185915
DTSTART;TZID=Europe/Berlin:20260702T184500
DTEND;TZID=Europe/Berlin:20260702T193000
UID:P33117-20260702T184500@GHZDÜREN
SUMMARY:Rückenschule und Wirbelsäulengymnastik (P33117) 
LOCATION:St. Marien-Hospital; Gymnastikraum 1, , 
END:VEVENT
BEGIN:VEVENT
DTSTAMP:20260419T185915
DTSTART;TZID=Europe/Berlin:20260709T184500
DTEND;TZID=Europe/Berlin:20260709T193000
UID:P33117-20260709T184500@GHZDÜREN
SUMMARY:Rückenschule und Wirbelsäulengymnastik (P33117) 
LOCATION:St. Marien-Hospital; Gymnastikraum 1, , 
END:VEVENT
BEGIN:VEVENT
DTSTAMP:20260419T185915
DTSTART;TZID=Europe/Berlin:20260716T184500
DTEND;TZID=Europe/Berlin:20260716T193000
UID:P33117-20260716T184500@GHZDÜREN
SUMMARY:Rückenschule und Wirbelsäulengymnastik (P33117) 
LOCATION:St. Marien-Hospital; Gymnastikraum 1, , 
END:VEVENT
BEGIN:VEVENT
DTSTAMP:20260419T185915
DTSTART;TZID=Europe/Berlin:20260723T184500
DTEND;TZID=Europe/Berlin:20260723T193000
UID:P33117-20260723T184500@GHZDÜREN
SUMMARY:Rückenschule und Wirbelsäulengymnastik (P33117) 
LOCATION:St. Marien-Hospital; Gymnastikraum 1, , 
END:VEVENT
BEGIN:VEVENT
DTSTAMP:20260419T185915
DTSTART;TZID=Europe/Berlin:20260730T184500
DTEND;TZID=Europe/Berlin:20260730T193000
UID:P33117-20260730T184500@GHZDÜREN
SUMMARY:Rückenschule und Wirbelsäulengymnastik (P33117) 
LOCATION:St. Marien-Hospital; Gymnastikraum 1, , 
END:VEVENT
BEGIN:VEVENT
DTSTAMP:20260419T185915
DTSTART;TZID=Europe/Berlin:20260806T184500
DTEND;TZID=Europe/Berlin:20260806T193000
UID:P33117-20260806T184500@GHZDÜREN
SUMMARY:Rückenschule und Wirbelsäulengymnastik (P33117) 
LOCATION:St. Marien-Hospital; Gymnastikraum 1, , 
END:VEVENT
BEGIN:VEVENT
DTSTAMP:20260419T185915
DTSTART;TZID=Europe/Berlin:20260827T184500
DTEND;TZID=Europe/Berlin:20260827T193000
UID:P33117-20260827T184500@GHZDÜREN
SUMMARY:Rückenschule und Wirbelsäulengymnastik (P33117) 
LOCATION:St. Marien-Hospital; Gymnastikraum 1, , 
END:VEVENT
BEGIN:VEVENT
DTSTAMP:20260419T185915
DTSTART;TZID=Europe/Berlin:20260903T184500
DTEND;TZID=Europe/Berlin:20260903T193000
UID:P33117-20260903T184500@GHZDÜREN
SUMMARY:Rückenschule und Wirbelsäulengymnastik (P33117) 
LOCATION:St. Marien-Hospital; Gymnastikraum 1, , 
END:VEVENT
BEGIN:VEVENT
DTSTAMP:20260419T185915
DTSTART;TZID=Europe/Berlin:20260910T184500
DTEND;TZID=Europe/Berlin:20260910T193000
UID:P33117-20260910T184500@GHZDÜREN
SUMMARY:Rückenschule und Wirbelsäulengymnastik (P33117) 
LOCATION:St. Marien-Hospital; Gymnastikraum 1, , 
END:VEVENT
BEGIN:VEVENT
DTSTAMP:20260419T185915
DTSTART;TZID=Europe/Berlin:20260917T184500
DTEND;TZID=Europe/Berlin:20260917T193000
UID:P33117-20260917T184500@GHZDÜREN
SUMMARY:Rückenschule und Wirbelsäulengymnastik (P33117) 
LOCATION:St. Marien-Hospital; Gymnastikraum 1, , 
END:VEVENT
BEGIN:VEVENT
DTSTAMP:20260419T185915
DTSTART;TZID=Europe/Berlin:20260924T184500
DTEND;TZID=Europe/Berlin:20260924T193000
UID:P33117-20260924T184500@GHZDÜREN
SUMMARY:Rückenschule und Wirbelsäulengymnastik (P33117) 
LOCATION:St. Marien-Hospital; Gymnastikraum 1, , 
END:VEVENT
END:VCALENDAR