BEGIN:VCALENDAR
VERSION:2.0
PRODID:https://www.kufer.de/kuferweb / DE
METHOD:PUBLISH
CALSCALE:GREGORIAN
X-WR-TIMEZONE:Europe/Berlin
BEGIN:VTIMEZONE
TZID:Europe/Berlin
X-LIC-LOCATION:Europe/Berlin
BEGIN:DAYLIGHT
TZOFFSETFROM:+0100
TZOFFSETTO:+0200
TZNAME:CEST
DTSTART:19700329T020000
RRULE:FREQ=YEARLY;INTERVAL=1;BYDAY=-1SU;BYMONTH=3
END:DAYLIGHT
BEGIN:STANDARD
TZOFFSETFROM:+0200
TZOFFSETTO:+0100
TZNAME:CET
DTSTART:19701025T030000
RRULE:FREQ=YEARLY;INTERVAL=1;BYDAY=-1SU;BYMONTH=10
END:STANDARD
END:VTIMEZONE
BEGIN:VEVENT
DTSTAMP:20260419T202012
DTSTART;TZID=Europe/Berlin:20260707T103000
DTEND;TZID=Europe/Berlin:20260707T120000
UID:P33202-20260707T103000@GHZDÜREN
SUMMARY:Herzkreislauftraining (P33202) 
LOCATION:St. Marien-Hospital; Gymnastikraum 1, , 
END:VEVENT
BEGIN:VEVENT
DTSTAMP:20260419T202012
DTSTART;TZID=Europe/Berlin:20260714T103000
DTEND;TZID=Europe/Berlin:20260714T120000
UID:P33202-20260714T103000@GHZDÜREN
SUMMARY:Herzkreislauftraining (P33202) 
LOCATION:St. Marien-Hospital; Gymnastikraum 1, , 
END:VEVENT
BEGIN:VEVENT
DTSTAMP:20260419T202012
DTSTART;TZID=Europe/Berlin:20260721T103000
DTEND;TZID=Europe/Berlin:20260721T120000
UID:P33202-20260721T103000@GHZDÜREN
SUMMARY:Herzkreislauftraining (P33202) 
LOCATION:St. Marien-Hospital; Gymnastikraum 1, , 
END:VEVENT
BEGIN:VEVENT
DTSTAMP:20260419T202012
DTSTART;TZID=Europe/Berlin:20260728T103000
DTEND;TZID=Europe/Berlin:20260728T120000
UID:P33202-20260728T103000@GHZDÜREN
SUMMARY:Herzkreislauftraining (P33202) 
LOCATION:St. Marien-Hospital; Gymnastikraum 1, , 
END:VEVENT
BEGIN:VEVENT
DTSTAMP:20260419T202012
DTSTART;TZID=Europe/Berlin:20260804T103000
DTEND;TZID=Europe/Berlin:20260804T120000
UID:P33202-20260804T103000@GHZDÜREN
SUMMARY:Herzkreislauftraining (P33202) 
LOCATION:St. Marien-Hospital; Gymnastikraum 1, , 
END:VEVENT
BEGIN:VEVENT
DTSTAMP:20260419T202012
DTSTART;TZID=Europe/Berlin:20260811T103000
DTEND;TZID=Europe/Berlin:20260811T120000
UID:P33202-20260811T103000@GHZDÜREN
SUMMARY:Herzkreislauftraining (P33202) 
LOCATION:St. Marien-Hospital; Gymnastikraum 1, , 
END:VEVENT
BEGIN:VEVENT
DTSTAMP:20260419T202012
DTSTART;TZID=Europe/Berlin:20260818T103000
DTEND;TZID=Europe/Berlin:20260818T120000
UID:P33202-20260818T103000@GHZDÜREN
SUMMARY:Herzkreislauftraining (P33202) 
LOCATION:St. Marien-Hospital; Gymnastikraum 1, , 
END:VEVENT
BEGIN:VEVENT
DTSTAMP:20260419T202012
DTSTART;TZID=Europe/Berlin:20260825T103000
DTEND;TZID=Europe/Berlin:20260825T120000
UID:P33202-20260825T103000@GHZDÜREN
SUMMARY:Herzkreislauftraining (P33202) 
LOCATION:St. Marien-Hospital; Gymnastikraum 1, , 
END:VEVENT
BEGIN:VEVENT
DTSTAMP:20260419T202012
DTSTART;TZID=Europe/Berlin:20260901T103000
DTEND;TZID=Europe/Berlin:20260901T120000
UID:P33202-20260901T103000@GHZDÜREN
SUMMARY:Herzkreislauftraining (P33202) 
LOCATION:St. Marien-Hospital; Gymnastikraum 1, , 
END:VEVENT
BEGIN:VEVENT
DTSTAMP:20260419T202012
DTSTART;TZID=Europe/Berlin:20260908T103000
DTEND;TZID=Europe/Berlin:20260908T120000
UID:P33202-20260908T103000@GHZDÜREN
SUMMARY:Herzkreislauftraining (P33202) 
LOCATION:St. Marien-Hospital; Gymnastikraum 1, , 
END:VEVENT
BEGIN:VEVENT
DTSTAMP:20260419T202012
DTSTART;TZID=Europe/Berlin:20260915T103000
DTEND;TZID=Europe/Berlin:20260915T120000
UID:P33202-20260915T103000@GHZDÜREN
SUMMARY:Herzkreislauftraining (P33202) 
LOCATION:St. Marien-Hospital; Gymnastikraum 1, , 
END:VEVENT
BEGIN:VEVENT
DTSTAMP:20260419T202012
DTSTART;TZID=Europe/Berlin:20260922T103000
DTEND;TZID=Europe/Berlin:20260922T120000
UID:P33202-20260922T103000@GHZDÜREN
SUMMARY:Herzkreislauftraining (P33202) 
LOCATION:St. Marien-Hospital; Gymnastikraum 1, , 
END:VEVENT
BEGIN:VEVENT
DTSTAMP:20260419T202012
DTSTART;TZID=Europe/Berlin:20260929T103000
DTEND;TZID=Europe/Berlin:20260929T120000
UID:P33202-20260929T103000@GHZDÜREN
SUMMARY:Herzkreislauftraining (P33202) 
LOCATION:St. Marien-Hospital; Gymnastikraum 1, , 
END:VEVENT
END:VCALENDAR