BEGIN:VCALENDAR
VERSION:2.0
PRODID:https://www.kufer.de/kuferweb / DE
METHOD:PUBLISH
CALSCALE:GREGORIAN
X-WR-TIMEZONE:Europe/Berlin
BEGIN:VTIMEZONE
TZID:Europe/Berlin
X-LIC-LOCATION:Europe/Berlin
BEGIN:DAYLIGHT
TZOFFSETFROM:+0100
TZOFFSETTO:+0200
TZNAME:CEST
DTSTART:19700329T020000
RRULE:FREQ=YEARLY;INTERVAL=1;BYDAY=-1SU;BYMONTH=3
END:DAYLIGHT
BEGIN:STANDARD
TZOFFSETFROM:+0200
TZOFFSETTO:+0100
TZNAME:CET
DTSTART:19701025T030000
RRULE:FREQ=YEARLY;INTERVAL=1;BYDAY=-1SU;BYMONTH=10
END:STANDARD
END:VTIMEZONE
BEGIN:VEVENT
DTSTAMP:20260419T202012
DTSTART;TZID=Europe/Berlin:20260707T141500
DTEND;TZID=Europe/Berlin:20260707T151500
UID:P33203-20260707T141500@GHZDÜREN
SUMMARY:Herzkreislauftraining (P33203) 
LOCATION:St. Marien-Hospital; Gymnastikraum 1, , 
END:VEVENT
BEGIN:VEVENT
DTSTAMP:20260419T202012
DTSTART;TZID=Europe/Berlin:20260714T141500
DTEND;TZID=Europe/Berlin:20260714T151500
UID:P33203-20260714T141500@GHZDÜREN
SUMMARY:Herzkreislauftraining (P33203) 
LOCATION:St. Marien-Hospital; Gymnastikraum 1, , 
END:VEVENT
BEGIN:VEVENT
DTSTAMP:20260419T202012
DTSTART;TZID=Europe/Berlin:20260721T141500
DTEND;TZID=Europe/Berlin:20260721T151500
UID:P33203-20260721T141500@GHZDÜREN
SUMMARY:Herzkreislauftraining (P33203) 
LOCATION:St. Marien-Hospital; Gymnastikraum 1, , 
END:VEVENT
BEGIN:VEVENT
DTSTAMP:20260419T202012
DTSTART;TZID=Europe/Berlin:20260728T141500
DTEND;TZID=Europe/Berlin:20260728T151500
UID:P33203-20260728T141500@GHZDÜREN
SUMMARY:Herzkreislauftraining (P33203) 
LOCATION:St. Marien-Hospital; Gymnastikraum 1, , 
END:VEVENT
BEGIN:VEVENT
DTSTAMP:20260419T202012
DTSTART;TZID=Europe/Berlin:20260804T141500
DTEND;TZID=Europe/Berlin:20260804T151500
UID:P33203-20260804T141500@GHZDÜREN
SUMMARY:Herzkreislauftraining (P33203) 
LOCATION:St. Marien-Hospital; Gymnastikraum 1, , 
END:VEVENT
BEGIN:VEVENT
DTSTAMP:20260419T202012
DTSTART;TZID=Europe/Berlin:20260811T141500
DTEND;TZID=Europe/Berlin:20260811T151500
UID:P33203-20260811T141500@GHZDÜREN
SUMMARY:Herzkreislauftraining (P33203) 
LOCATION:St. Marien-Hospital; Gymnastikraum 1, , 
END:VEVENT
BEGIN:VEVENT
DTSTAMP:20260419T202012
DTSTART;TZID=Europe/Berlin:20260818T141500
DTEND;TZID=Europe/Berlin:20260818T151500
UID:P33203-20260818T141500@GHZDÜREN
SUMMARY:Herzkreislauftraining (P33203) 
LOCATION:St. Marien-Hospital; Gymnastikraum 1, , 
END:VEVENT
BEGIN:VEVENT
DTSTAMP:20260419T202012
DTSTART;TZID=Europe/Berlin:20260825T141500
DTEND;TZID=Europe/Berlin:20260825T151500
UID:P33203-20260825T141500@GHZDÜREN
SUMMARY:Herzkreislauftraining (P33203) 
LOCATION:St. Marien-Hospital; Gymnastikraum 1, , 
END:VEVENT
BEGIN:VEVENT
DTSTAMP:20260419T202012
DTSTART;TZID=Europe/Berlin:20260901T141500
DTEND;TZID=Europe/Berlin:20260901T151500
UID:P33203-20260901T141500@GHZDÜREN
SUMMARY:Herzkreislauftraining (P33203) 
LOCATION:St. Marien-Hospital; Gymnastikraum 1, , 
END:VEVENT
BEGIN:VEVENT
DTSTAMP:20260419T202012
DTSTART;TZID=Europe/Berlin:20260908T141500
DTEND;TZID=Europe/Berlin:20260908T151500
UID:P33203-20260908T141500@GHZDÜREN
SUMMARY:Herzkreislauftraining (P33203) 
LOCATION:St. Marien-Hospital; Gymnastikraum 1, , 
END:VEVENT
BEGIN:VEVENT
DTSTAMP:20260419T202012
DTSTART;TZID=Europe/Berlin:20260915T141500
DTEND;TZID=Europe/Berlin:20260915T151500
UID:P33203-20260915T141500@GHZDÜREN
SUMMARY:Herzkreislauftraining (P33203) 
LOCATION:St. Marien-Hospital; Gymnastikraum 1, , 
END:VEVENT
BEGIN:VEVENT
DTSTAMP:20260419T202012
DTSTART;TZID=Europe/Berlin:20260922T141500
DTEND;TZID=Europe/Berlin:20260922T151500
UID:P33203-20260922T141500@GHZDÜREN
SUMMARY:Herzkreislauftraining (P33203) 
LOCATION:St. Marien-Hospital; Gymnastikraum 1, , 
END:VEVENT
BEGIN:VEVENT
DTSTAMP:20260419T202012
DTSTART;TZID=Europe/Berlin:20260929T141500
DTEND;TZID=Europe/Berlin:20260929T151500
UID:P33203-20260929T141500@GHZDÜREN
SUMMARY:Herzkreislauftraining (P33203) 
LOCATION:St. Marien-Hospital; Gymnastikraum 1, , 
END:VEVENT
END:VCALENDAR