BEGIN:VCALENDAR
VERSION:2.0
PRODID:https://www.kufer.de/kuferweb / DE
METHOD:PUBLISH
CALSCALE:GREGORIAN
X-WR-TIMEZONE:Europe/Berlin
BEGIN:VTIMEZONE
TZID:Europe/Berlin
X-LIC-LOCATION:Europe/Berlin
BEGIN:DAYLIGHT
TZOFFSETFROM:+0100
TZOFFSETTO:+0200
TZNAME:CEST
DTSTART:19700329T020000
RRULE:FREQ=YEARLY;INTERVAL=1;BYDAY=-1SU;BYMONTH=3
END:DAYLIGHT
BEGIN:STANDARD
TZOFFSETFROM:+0200
TZOFFSETTO:+0100
TZNAME:CET
DTSTART:19701025T030000
RRULE:FREQ=YEARLY;INTERVAL=1;BYDAY=-1SU;BYMONTH=10
END:STANDARD
END:VTIMEZONE
BEGIN:VEVENT
DTSTAMP:20260419T172332
DTSTART;TZID=Europe/Berlin:20260701T103000
DTEND;TZID=Europe/Berlin:20260701T114500
UID:P33207-20260701T103000@GHZDÜREN
SUMMARY:Herzkreislauftraining (P33207) 
LOCATION:St. Marien-Hospital; Gymnastikraum 1, , 
END:VEVENT
BEGIN:VEVENT
DTSTAMP:20260419T172332
DTSTART;TZID=Europe/Berlin:20260708T103000
DTEND;TZID=Europe/Berlin:20260708T114500
UID:P33207-20260708T103000@GHZDÜREN
SUMMARY:Herzkreislauftraining (P33207) 
LOCATION:St. Marien-Hospital; Gymnastikraum 1, , 
END:VEVENT
BEGIN:VEVENT
DTSTAMP:20260419T172332
DTSTART;TZID=Europe/Berlin:20260715T103000
DTEND;TZID=Europe/Berlin:20260715T114500
UID:P33207-20260715T103000@GHZDÜREN
SUMMARY:Herzkreislauftraining (P33207) 
LOCATION:St. Marien-Hospital; Gymnastikraum 1, , 
END:VEVENT
BEGIN:VEVENT
DTSTAMP:20260419T172332
DTSTART;TZID=Europe/Berlin:20260722T103000
DTEND;TZID=Europe/Berlin:20260722T114500
UID:P33207-20260722T103000@GHZDÜREN
SUMMARY:Herzkreislauftraining (P33207) 
LOCATION:St. Marien-Hospital; Gymnastikraum 1, , 
END:VEVENT
BEGIN:VEVENT
DTSTAMP:20260419T172332
DTSTART;TZID=Europe/Berlin:20260729T103000
DTEND;TZID=Europe/Berlin:20260729T114500
UID:P33207-20260729T103000@GHZDÜREN
SUMMARY:Herzkreislauftraining (P33207) 
LOCATION:St. Marien-Hospital; Gymnastikraum 1, , 
END:VEVENT
BEGIN:VEVENT
DTSTAMP:20260419T172332
DTSTART;TZID=Europe/Berlin:20260805T103000
DTEND;TZID=Europe/Berlin:20260805T114500
UID:P33207-20260805T103000@GHZDÜREN
SUMMARY:Herzkreislauftraining (P33207) 
LOCATION:St. Marien-Hospital; Gymnastikraum 1, , 
END:VEVENT
BEGIN:VEVENT
DTSTAMP:20260419T172332
DTSTART;TZID=Europe/Berlin:20260812T103000
DTEND;TZID=Europe/Berlin:20260812T114500
UID:P33207-20260812T103000@GHZDÜREN
SUMMARY:Herzkreislauftraining (P33207) 
LOCATION:St. Marien-Hospital; Gymnastikraum 1, , 
END:VEVENT
BEGIN:VEVENT
DTSTAMP:20260419T172332
DTSTART;TZID=Europe/Berlin:20260819T103000
DTEND;TZID=Europe/Berlin:20260819T114500
UID:P33207-20260819T103000@GHZDÜREN
SUMMARY:Herzkreislauftraining (P33207) 
LOCATION:St. Marien-Hospital; Gymnastikraum 1, , 
END:VEVENT
BEGIN:VEVENT
DTSTAMP:20260419T172332
DTSTART;TZID=Europe/Berlin:20260826T103000
DTEND;TZID=Europe/Berlin:20260826T114500
UID:P33207-20260826T103000@GHZDÜREN
SUMMARY:Herzkreislauftraining (P33207) 
LOCATION:St. Marien-Hospital; Gymnastikraum 1, , 
END:VEVENT
BEGIN:VEVENT
DTSTAMP:20260419T172332
DTSTART;TZID=Europe/Berlin:20260902T103000
DTEND;TZID=Europe/Berlin:20260902T114500
UID:P33207-20260902T103000@GHZDÜREN
SUMMARY:Herzkreislauftraining (P33207) 
LOCATION:St. Marien-Hospital; Gymnastikraum 1, , 
END:VEVENT
BEGIN:VEVENT
DTSTAMP:20260419T172332
DTSTART;TZID=Europe/Berlin:20260909T103000
DTEND;TZID=Europe/Berlin:20260909T114500
UID:P33207-20260909T103000@GHZDÜREN
SUMMARY:Herzkreislauftraining (P33207) 
LOCATION:St. Marien-Hospital; Gymnastikraum 1, , 
END:VEVENT
BEGIN:VEVENT
DTSTAMP:20260419T172332
DTSTART;TZID=Europe/Berlin:20260916T103000
DTEND;TZID=Europe/Berlin:20260916T114500
UID:P33207-20260916T103000@GHZDÜREN
SUMMARY:Herzkreislauftraining (P33207) 
LOCATION:St. Marien-Hospital; Gymnastikraum 1, , 
END:VEVENT
BEGIN:VEVENT
DTSTAMP:20260419T172332
DTSTART;TZID=Europe/Berlin:20260923T103000
DTEND;TZID=Europe/Berlin:20260923T114500
UID:P33207-20260923T103000@GHZDÜREN
SUMMARY:Herzkreislauftraining (P33207) 
LOCATION:St. Marien-Hospital; Gymnastikraum 1, , 
END:VEVENT
BEGIN:VEVENT
DTSTAMP:20260419T172332
DTSTART;TZID=Europe/Berlin:20260930T103000
DTEND;TZID=Europe/Berlin:20260930T114500
UID:P33207-20260930T103000@GHZDÜREN
SUMMARY:Herzkreislauftraining (P33207) 
LOCATION:St. Marien-Hospital; Gymnastikraum 1, , 
END:VEVENT
END:VCALENDAR