BEGIN:VCALENDAR
VERSION:2.0
PRODID:https://www.kufer.de/kuferweb / DE
METHOD:PUBLISH
CALSCALE:GREGORIAN
X-WR-TIMEZONE:Europe/Berlin
BEGIN:VTIMEZONE
TZID:Europe/Berlin
X-LIC-LOCATION:Europe/Berlin
BEGIN:DAYLIGHT
TZOFFSETFROM:+0100
TZOFFSETTO:+0200
TZNAME:CEST
DTSTART:19700329T020000
RRULE:FREQ=YEARLY;INTERVAL=1;BYDAY=-1SU;BYMONTH=3
END:DAYLIGHT
BEGIN:STANDARD
TZOFFSETFROM:+0200
TZOFFSETTO:+0100
TZNAME:CET
DTSTART:19701025T030000
RRULE:FREQ=YEARLY;INTERVAL=1;BYDAY=-1SU;BYMONTH=10
END:STANDARD
END:VTIMEZONE
BEGIN:VEVENT
DTSTAMP:20260419T220717
DTSTART;TZID=Europe/Berlin:20260706T080000
DTEND;TZID=Europe/Berlin:20260706T084500
UID:P33501C-20260706T080000@GHZDÜREN
SUMMARY:Wassergymnastik (P33501C) 
LOCATION:KITA am Sonnenweg, Sonneweg 52c, 52355 Düren-Rölsdorf, Sonnenweg 52c, 52355 Düren
END:VEVENT
BEGIN:VEVENT
DTSTAMP:20260419T220717
DTSTART;TZID=Europe/Berlin:20260713T080000
DTEND;TZID=Europe/Berlin:20260713T084500
UID:P33501C-20260713T080000@GHZDÜREN
SUMMARY:Wassergymnastik (P33501C) 
LOCATION:KITA am Sonnenweg, Sonneweg 52c, 52355 Düren-Rölsdorf, Sonnenweg 52c, 52355 Düren
END:VEVENT
BEGIN:VEVENT
DTSTAMP:20260419T220717
DTSTART;TZID=Europe/Berlin:20260907T080000
DTEND;TZID=Europe/Berlin:20260907T084500
UID:P33501C-20260907T080000@GHZDÜREN
SUMMARY:Wassergymnastik (P33501C) 
LOCATION:KITA am Sonnenweg, Sonneweg 52c, 52355 Düren-Rölsdorf, Sonnenweg 52c, 52355 Düren
END:VEVENT
BEGIN:VEVENT
DTSTAMP:20260419T220717
DTSTART;TZID=Europe/Berlin:20260914T080000
DTEND;TZID=Europe/Berlin:20260914T084500
UID:P33501C-20260914T080000@GHZDÜREN
SUMMARY:Wassergymnastik (P33501C) 
LOCATION:KITA am Sonnenweg, Sonneweg 52c, 52355 Düren-Rölsdorf, Sonnenweg 52c, 52355 Düren
END:VEVENT
BEGIN:VEVENT
DTSTAMP:20260419T220717
DTSTART;TZID=Europe/Berlin:20260921T080000
DTEND;TZID=Europe/Berlin:20260921T084500
UID:P33501C-20260921T080000@GHZDÜREN
SUMMARY:Wassergymnastik (P33501C) 
LOCATION:KITA am Sonnenweg, Sonneweg 52c, 52355 Düren-Rölsdorf, Sonnenweg 52c, 52355 Düren
END:VEVENT
BEGIN:VEVENT
DTSTAMP:20260419T220717
DTSTART;TZID=Europe/Berlin:20260928T080000
DTEND;TZID=Europe/Berlin:20260928T084500
UID:P33501C-20260928T080000@GHZDÜREN
SUMMARY:Wassergymnastik (P33501C) 
LOCATION:KITA am Sonnenweg, Sonneweg 52c, 52355 Düren-Rölsdorf, Sonnenweg 52c, 52355 Düren
END:VEVENT
END:VCALENDAR