BEGIN:VCALENDAR
VERSION:2.0
PRODID:https://www.kufer.de/kuferweb / DE
METHOD:PUBLISH
CALSCALE:GREGORIAN
X-WR-TIMEZONE:Europe/Berlin
BEGIN:VTIMEZONE
TZID:Europe/Berlin
X-LIC-LOCATION:Europe/Berlin
BEGIN:DAYLIGHT
TZOFFSETFROM:+0100
TZOFFSETTO:+0200
TZNAME:CEST
DTSTART:19700329T020000
RRULE:FREQ=YEARLY;INTERVAL=1;BYDAY=-1SU;BYMONTH=3
END:DAYLIGHT
BEGIN:STANDARD
TZOFFSETFROM:+0200
TZOFFSETTO:+0100
TZNAME:CET
DTSTART:19701025T030000
RRULE:FREQ=YEARLY;INTERVAL=1;BYDAY=-1SU;BYMONTH=10
END:STANDARD
END:VTIMEZONE
BEGIN:VEVENT
DTSTAMP:20260419T202012
DTSTART;TZID=Europe/Berlin:20260701T130000
DTEND;TZID=Europe/Berlin:20260701T134500
UID:P33505C-20260701T130000@GHZDÜREN
SUMMARY:Wassergymnastik (P33505C) 
LOCATION:KITA am Sonnenweg, Sonneweg 52c, 52355 Düren-Rölsdorf, Sonnenweg 52c, 52355 Düren
END:VEVENT
BEGIN:VEVENT
DTSTAMP:20260419T202012
DTSTART;TZID=Europe/Berlin:20260708T130000
DTEND;TZID=Europe/Berlin:20260708T134500
UID:P33505C-20260708T130000@GHZDÜREN
SUMMARY:Wassergymnastik (P33505C) 
LOCATION:KITA am Sonnenweg, Sonneweg 52c, 52355 Düren-Rölsdorf, Sonnenweg 52c, 52355 Düren
END:VEVENT
BEGIN:VEVENT
DTSTAMP:20260419T202012
DTSTART;TZID=Europe/Berlin:20260715T130000
DTEND;TZID=Europe/Berlin:20260715T134500
UID:P33505C-20260715T130000@GHZDÜREN
SUMMARY:Wassergymnastik (P33505C) 
LOCATION:KITA am Sonnenweg, Sonneweg 52c, 52355 Düren-Rölsdorf, Sonnenweg 52c, 52355 Düren
END:VEVENT
BEGIN:VEVENT
DTSTAMP:20260419T202012
DTSTART;TZID=Europe/Berlin:20260902T130000
DTEND;TZID=Europe/Berlin:20260902T134500
UID:P33505C-20260902T130000@GHZDÜREN
SUMMARY:Wassergymnastik (P33505C) 
LOCATION:KITA am Sonnenweg, Sonneweg 52c, 52355 Düren-Rölsdorf, Sonnenweg 52c, 52355 Düren
END:VEVENT
BEGIN:VEVENT
DTSTAMP:20260419T202012
DTSTART;TZID=Europe/Berlin:20260909T130000
DTEND;TZID=Europe/Berlin:20260909T134500
UID:P33505C-20260909T130000@GHZDÜREN
SUMMARY:Wassergymnastik (P33505C) 
LOCATION:KITA am Sonnenweg, Sonneweg 52c, 52355 Düren-Rölsdorf, Sonnenweg 52c, 52355 Düren
END:VEVENT
BEGIN:VEVENT
DTSTAMP:20260419T202012
DTSTART;TZID=Europe/Berlin:20260916T130000
DTEND;TZID=Europe/Berlin:20260916T134500
UID:P33505C-20260916T130000@GHZDÜREN
SUMMARY:Wassergymnastik (P33505C) 
LOCATION:KITA am Sonnenweg, Sonneweg 52c, 52355 Düren-Rölsdorf, Sonnenweg 52c, 52355 Düren
END:VEVENT
BEGIN:VEVENT
DTSTAMP:20260419T202012
DTSTART;TZID=Europe/Berlin:20260923T130000
DTEND;TZID=Europe/Berlin:20260923T134500
UID:P33505C-20260923T130000@GHZDÜREN
SUMMARY:Wassergymnastik (P33505C) 
LOCATION:KITA am Sonnenweg, Sonneweg 52c, 52355 Düren-Rölsdorf, Sonnenweg 52c, 52355 Düren
END:VEVENT
BEGIN:VEVENT
DTSTAMP:20260419T202012
DTSTART;TZID=Europe/Berlin:20260930T130000
DTEND;TZID=Europe/Berlin:20260930T134500
UID:P33505C-20260930T130000@GHZDÜREN
SUMMARY:Wassergymnastik (P33505C) 
LOCATION:KITA am Sonnenweg, Sonneweg 52c, 52355 Düren-Rölsdorf, Sonnenweg 52c, 52355 Düren
END:VEVENT
END:VCALENDAR