BEGIN:VCALENDAR
VERSION:2.0
PRODID:https://www.kufer.de/kuferweb / DE
METHOD:PUBLISH
CALSCALE:GREGORIAN
X-WR-TIMEZONE:Europe/Berlin
BEGIN:VTIMEZONE
TZID:Europe/Berlin
X-LIC-LOCATION:Europe/Berlin
BEGIN:DAYLIGHT
TZOFFSETFROM:+0100
TZOFFSETTO:+0200
TZNAME:CEST
DTSTART:19700329T020000
RRULE:FREQ=YEARLY;INTERVAL=1;BYDAY=-1SU;BYMONTH=3
END:DAYLIGHT
BEGIN:STANDARD
TZOFFSETFROM:+0200
TZOFFSETTO:+0100
TZNAME:CET
DTSTART:19701025T030000
RRULE:FREQ=YEARLY;INTERVAL=1;BYDAY=-1SU;BYMONTH=10
END:STANDARD
END:VTIMEZONE
BEGIN:VEVENT
DTSTAMP:20260419T185915
DTSTART;TZID=Europe/Berlin:20260701T134500
DTEND;TZID=Europe/Berlin:20260701T143000
UID:P33506C-20260701T134500@GHZDÜREN
SUMMARY:Wassergymnastik (P33506C) 
LOCATION:KITA am Sonnenweg, Sonneweg 52c, 52355 Düren-Rölsdorf, Sonnenweg 52c, 52355 Düren
END:VEVENT
BEGIN:VEVENT
DTSTAMP:20260419T185915
DTSTART;TZID=Europe/Berlin:20260708T134500
DTEND;TZID=Europe/Berlin:20260708T143000
UID:P33506C-20260708T134500@GHZDÜREN
SUMMARY:Wassergymnastik (P33506C) 
LOCATION:KITA am Sonnenweg, Sonneweg 52c, 52355 Düren-Rölsdorf, Sonnenweg 52c, 52355 Düren
END:VEVENT
BEGIN:VEVENT
DTSTAMP:20260419T185915
DTSTART;TZID=Europe/Berlin:20260715T134500
DTEND;TZID=Europe/Berlin:20260715T143000
UID:P33506C-20260715T134500@GHZDÜREN
SUMMARY:Wassergymnastik (P33506C) 
LOCATION:KITA am Sonnenweg, Sonneweg 52c, 52355 Düren-Rölsdorf, Sonnenweg 52c, 52355 Düren
END:VEVENT
BEGIN:VEVENT
DTSTAMP:20260419T185915
DTSTART;TZID=Europe/Berlin:20260902T134500
DTEND;TZID=Europe/Berlin:20260902T143000
UID:P33506C-20260902T134500@GHZDÜREN
SUMMARY:Wassergymnastik (P33506C) 
LOCATION:KITA am Sonnenweg, Sonneweg 52c, 52355 Düren-Rölsdorf, Sonnenweg 52c, 52355 Düren
END:VEVENT
BEGIN:VEVENT
DTSTAMP:20260419T185915
DTSTART;TZID=Europe/Berlin:20260909T134500
DTEND;TZID=Europe/Berlin:20260909T143000
UID:P33506C-20260909T134500@GHZDÜREN
SUMMARY:Wassergymnastik (P33506C) 
LOCATION:KITA am Sonnenweg, Sonneweg 52c, 52355 Düren-Rölsdorf, Sonnenweg 52c, 52355 Düren
END:VEVENT
BEGIN:VEVENT
DTSTAMP:20260419T185915
DTSTART;TZID=Europe/Berlin:20260916T134500
DTEND;TZID=Europe/Berlin:20260916T143000
UID:P33506C-20260916T134500@GHZDÜREN
SUMMARY:Wassergymnastik (P33506C) 
LOCATION:KITA am Sonnenweg, Sonneweg 52c, 52355 Düren-Rölsdorf, Sonnenweg 52c, 52355 Düren
END:VEVENT
BEGIN:VEVENT
DTSTAMP:20260419T185915
DTSTART;TZID=Europe/Berlin:20260923T134500
DTEND;TZID=Europe/Berlin:20260923T143000
UID:P33506C-20260923T134500@GHZDÜREN
SUMMARY:Wassergymnastik (P33506C) 
LOCATION:KITA am Sonnenweg, Sonneweg 52c, 52355 Düren-Rölsdorf, Sonnenweg 52c, 52355 Düren
END:VEVENT
BEGIN:VEVENT
DTSTAMP:20260419T185915
DTSTART;TZID=Europe/Berlin:20260930T134500
DTEND;TZID=Europe/Berlin:20260930T143000
UID:P33506C-20260930T134500@GHZDÜREN
SUMMARY:Wassergymnastik (P33506C) 
LOCATION:KITA am Sonnenweg, Sonneweg 52c, 52355 Düren-Rölsdorf, Sonnenweg 52c, 52355 Düren
END:VEVENT
END:VCALENDAR