BEGIN:VCALENDAR
VERSION:2.0
PRODID:https://www.kufer.de/kuferweb / DE
METHOD:PUBLISH
CALSCALE:GREGORIAN
X-WR-TIMEZONE:Europe/Berlin
BEGIN:VTIMEZONE
TZID:Europe/Berlin
X-LIC-LOCATION:Europe/Berlin
BEGIN:DAYLIGHT
TZOFFSETFROM:+0100
TZOFFSETTO:+0200
TZNAME:CEST
DTSTART:19700329T020000
RRULE:FREQ=YEARLY;INTERVAL=1;BYDAY=-1SU;BYMONTH=3
END:DAYLIGHT
BEGIN:STANDARD
TZOFFSETFROM:+0200
TZOFFSETTO:+0100
TZNAME:CET
DTSTART:19701025T030000
RRULE:FREQ=YEARLY;INTERVAL=1;BYDAY=-1SU;BYMONTH=10
END:STANDARD
END:VTIMEZONE
BEGIN:VEVENT
DTSTAMP:20260419T185914
DTSTART;TZID=Europe/Berlin:20260701T194500
DTEND;TZID=Europe/Berlin:20260701T203000
UID:P33510-20260701T194500@GHZDÜREN
SUMMARY:Wassergymnastik (P33510) 
LOCATION:Grundschule Weidenpesch, Weidenpesch 6-8, 52353 Düren-Birkesdorf, Weidenpesch 6-8, 52353 Düren
END:VEVENT
BEGIN:VEVENT
DTSTAMP:20260419T185914
DTSTART;TZID=Europe/Berlin:20260708T194500
DTEND;TZID=Europe/Berlin:20260708T203000
UID:P33510-20260708T194500@GHZDÜREN
SUMMARY:Wassergymnastik (P33510) 
LOCATION:Grundschule Weidenpesch, Weidenpesch 6-8, 52353 Düren-Birkesdorf, Weidenpesch 6-8, 52353 Düren
END:VEVENT
BEGIN:VEVENT
DTSTAMP:20260419T185914
DTSTART;TZID=Europe/Berlin:20260715T194500
DTEND;TZID=Europe/Berlin:20260715T203000
UID:P33510-20260715T194500@GHZDÜREN
SUMMARY:Wassergymnastik (P33510) 
LOCATION:Grundschule Weidenpesch, Weidenpesch 6-8, 52353 Düren-Birkesdorf, Weidenpesch 6-8, 52353 Düren
END:VEVENT
BEGIN:VEVENT
DTSTAMP:20260419T185914
DTSTART;TZID=Europe/Berlin:20260902T194500
DTEND;TZID=Europe/Berlin:20260902T203000
UID:P33510-20260902T194500@GHZDÜREN
SUMMARY:Wassergymnastik (P33510) 
LOCATION:Grundschule Weidenpesch, Weidenpesch 6-8, 52353 Düren-Birkesdorf, Weidenpesch 6-8, 52353 Düren
END:VEVENT
BEGIN:VEVENT
DTSTAMP:20260419T185914
DTSTART;TZID=Europe/Berlin:20260909T194500
DTEND;TZID=Europe/Berlin:20260909T203000
UID:P33510-20260909T194500@GHZDÜREN
SUMMARY:Wassergymnastik (P33510) 
LOCATION:Grundschule Weidenpesch, Weidenpesch 6-8, 52353 Düren-Birkesdorf, Weidenpesch 6-8, 52353 Düren
END:VEVENT
BEGIN:VEVENT
DTSTAMP:20260419T185914
DTSTART;TZID=Europe/Berlin:20260916T194500
DTEND;TZID=Europe/Berlin:20260916T203000
UID:P33510-20260916T194500@GHZDÜREN
SUMMARY:Wassergymnastik (P33510) 
LOCATION:Grundschule Weidenpesch, Weidenpesch 6-8, 52353 Düren-Birkesdorf, Weidenpesch 6-8, 52353 Düren
END:VEVENT
BEGIN:VEVENT
DTSTAMP:20260419T185914
DTSTART;TZID=Europe/Berlin:20260923T194500
DTEND;TZID=Europe/Berlin:20260923T203000
UID:P33510-20260923T194500@GHZDÜREN
SUMMARY:Wassergymnastik (P33510) 
LOCATION:Grundschule Weidenpesch, Weidenpesch 6-8, 52353 Düren-Birkesdorf, Weidenpesch 6-8, 52353 Düren
END:VEVENT
BEGIN:VEVENT
DTSTAMP:20260419T185914
DTSTART;TZID=Europe/Berlin:20260930T194500
DTEND;TZID=Europe/Berlin:20260930T203000
UID:P33510-20260930T194500@GHZDÜREN
SUMMARY:Wassergymnastik (P33510) 
LOCATION:Grundschule Weidenpesch, Weidenpesch 6-8, 52353 Düren-Birkesdorf, Weidenpesch 6-8, 52353 Düren
END:VEVENT
END:VCALENDAR